BEGIN:VCALENDAR
VERSION:2.0
PRODID:-//ChamberMaster//Event Calendar 2.0//EN
METHOD:PUBLISH
X-PUBLISHED-TTL:P3D
REFRESH-INTERVAL:P3D
CALSCALE:GREGORIAN
BEGIN:VEVENT
DTSTART:20171117T220000Z
DTEND:20171118T010000Z
X-MICROSOFT-CDO-ALLDAYEVENT:FALSE
SUMMARY:Mirror\, Mirr on the Wall
DESCRIPTION:Local artists and ECU alumni have created mirrors for a silent auction fundraiser for ECU's School of Art and Design.  Throughout the month of October\, these mirrors will be displayed at local businesses\, including Jenni K Jewelry\, the Scullery\, Starlight\, Che Bella\, Pitt Street Brewing Company\, and many more! November 1-17th the entire collection will be on exhibit at Emerge Gallery.  Make sure to stop by Emerge Gallery during Uptown's November First Friday Art Walk for a special viewing and refreshments.  The silent auction fundraiser will be November 17th from 6-8pm and entry is only $5 per person. During the silent auction\, guests can enjoy food and drinks from local restaurants such as the Scullery and Smash Waffles\; all while exploring and having the opportunity to purchase unique artworks. While you enjoy the event\, you know you are supporting a worthy cause because all money raised during this event goes toward the School of Art and Design Scholarship Fund.   That's November 17th at Emerge Gallery from 6-8pm   the event is ticketed so please pick up your tickets today at Emerge Gallery!
X-ALT-DESC;FMTTYPE=text/html:<span style="font-family:garamond">Local artists and ECU alumni have created mirrors for a silent auction fundraiser for ECU&rsquo\;s School of Art and Design.&nbsp\; Throughout the month of October\, these mirrors will be displayed at local businesses\, including Jenni K Jewelry\, the Scullery\, Starlight\, Che Bella\, Pitt Street Brewing Company\, and many more! November 1-17<sup>th</sup> the entire collection will be on exhibit at Emerge Gallery.&nbsp\; Make sure to stop by Emerge Gallery during Uptown&rsquo\;s November First Friday Art Walk for a special viewing and refreshments.&nbsp\; The silent auction fundraiser will be November 17<sup>th</sup> from 6-8pm and entry is only $5 per person. During the silent auction\, guests can enjoy food and drinks from local restaurants such as the Scullery and Smash Waffles\; all while exploring and having the opportunity to purchase unique artworks. While you enjoy the event\, you know you are supporting a worthy cause because all money raised during this event goes toward the School of Art and Design Scholarship Fund. &nbsp\;&nbsp\;That&rsquo\;s November 17<sup>th</sup> at Emerge Gallery from 6-8pm &ndash\; the event is ticketed so please pick up your tickets today at Emerge Gallery! </span><br />\n&nbsp\;
LOCATION:Emerge Gallery
UID:e.840.8662
SEQUENCE:3
DTSTAMP:20260423T062630Z
URL:https://business.greenvillenc.org/events/details/mirror-mirr-on-the-wall-8662
END:VEVENT

END:VCALENDAR
