BEGIN:VCALENDAR
VERSION:2.0
PRODID:-//ChamberMaster//Event Calendar 2.0//EN
METHOD:PUBLISH
X-PUBLISHED-TTL:P3D
REFRESH-INTERVAL:P3D
CALSCALE:GREGORIAN
BEGIN:VEVENT
DTSTART:20160902T210000Z
DTEND:20160903T000000Z
X-MICROSOFT-CDO-ALLDAYEVENT:FALSE
SUMMARY:Members' Collection and Friends of Photography Exhibitions Opening
DESCRIPTION:Creative Eastern NC! Artworks From Our Members' Collections September 2 October 16 West Wing Gallery GMA Friends of Photography Exhibition-September 2-October 16 Commons Gallery Opening Reception: September 2\,5 8pm
X-ALT-DESC;FMTTYPE=text/html:Creative Eastern NC! Artworks From Our Members&rsquo\; Collections September 2&ndash\;October 16 West Wing Gallery GMA Friends of Photography Exhibition-September 2-October 16 Commons Gallery Opening Reception: September 2\,5&ndash\;8pm
LOCATION:Greenville Museum of Art
UID:e.840.5842
SEQUENCE:3
DTSTAMP:20260424T025703Z
URL:https://business.greenvillenc.org/events/details/members-collection-and-friends-of-photography-exhibitions-opening-5842
END:VEVENT

END:VCALENDAR
