BEGIN:VCALENDAR
VERSION:2.0
PRODID:-//ChamberMaster//Event Calendar 2.0//EN
METHOD:PUBLISH
X-PUBLISHED-TTL:P3D
REFRESH-INTERVAL:P3D
CALSCALE:GREGORIAN
BEGIN:VEVENT
DTSTART:20170614T213000Z
DTEND:20170614T233000Z
X-MICROSOFT-CDO-ALLDAYEVENT:FALSE
SUMMARY:Medical Office Networking Event
DESCRIPTION:This is your invitation to join us for an evening of networking and refreshments! Bring your co-workers\, friends and family who are looking to advance in the medical field.
X-ALT-DESC;FMTTYPE=text/html:This is your invitation to join us for an evening of networking and refreshments! Bring your co-workers\, friends and family who are looking to advance in the medical field.
LOCATION:1021 WH Smith BLVD #102 Greenville\, NC 27834
UID:e.840.8627
SEQUENCE:3
DTSTAMP:20260423T151344Z
URL:https://business.greenvillenc.org/events/details/medical-office-networking-event-8627
END:VEVENT

END:VCALENDAR
