BEGIN:VCALENDAR
VERSION:2.0
PRODID:-//ChamberMaster//Event Calendar 2.0//EN
METHOD:PUBLISH
X-PUBLISHED-TTL:P3D
REFRESH-INTERVAL:P3D
CALSCALE:GREGORIAN
BEGIN:VEVENT
DTSTART;VALUE=DATE:20201116
DTEND;VALUE=DATE:20201211
TRANSP:TRANSPARENT
X-MICROSOFT-CDO-ALLDAYEVENT:TRUE
SUMMARY:McGee Chiropractic Hosts Charitable Collection for Pitt Co Animal Shelter
DESCRIPTION:Please help the Pitt Co Animal Shelter by contributing needed items from the Wish List photo.  Stop by McGee Chiropractic in Greenville to drop off a monetary donation or cat and dog supplies and general cleaning supplies. All items will go to the shelter on Dec. 11\, 2020 to assist in care of rescued pets that need your help now.
X-ALT-DESC;FMTTYPE=text/html:<span style="font-size:14px">Please help the Pitt Co Animal Shelter by contributing needed items from the Wish List photo.&nbsp\; Stop by McGee Chiropractic in Greenville to drop off a monetary donation or cat and dog supplies and general cleaning supplies. All items will go to the shelter on Dec. 11\, 2020 to assist in care of rescued pets that need your help now</span>.<br />\n&nbsp\;
LOCATION:McGee Chiropractic 1330 E. Arlington Blvd. Suite B Greenville\, NC 27858
UID:e.840.12668
SEQUENCE:3
DTSTAMP:20260419T133156Z
URL:https://business.greenvillenc.org/events/details/mcgee-chiropractic-hosts-charitable-collection-for-pitt-co-animal-shelter-11-16-2020-12668
END:VEVENT

END:VCALENDAR
