BEGIN:VCALENDAR
VERSION:2.0
PRODID:-//ChamberMaster//Event Calendar 2.0//EN
METHOD:PUBLISH
X-PUBLISHED-TTL:P3D
REFRESH-INTERVAL:P3D
CALSCALE:GREGORIAN
BEGIN:VEVENT
DTSTART:20150221T150000Z
DTEND:20150221T160000Z
X-MICROSOFT-CDO-ALLDAYEVENT:FALSE
SUMMARY:Matilda and Friends Story Hour
DESCRIPTION:Join us for a one hour long program that will include stories\, activities/crafts and up close encounters with animals.  Each Saturday will focus on a different topic so families are encouraged to attend multiple days.  Park admission is included in the fee so pack an picnic and enjoy the park after the program.  Parents will stay with their children during the program. Pre registration is encouraged.  The program is geared towards 8 and under but children of all ages are welcome to attend! \n\n \n\nDATES:\nFebruary 21: Beaks!\n\nApril 18: Earth Day\n\nMay 16: Nests\n\nJune 20: Bugs\n\nJuly 18: Waterfowl
X-ALT-DESC;FMTTYPE=text/html:<p style="text-align: left\;">Join us for a one hour long program that will include stories\, activities/crafts and up close encounters with animals.&nbsp\; Each Saturday will focus on a different topic so families are encouraged to attend multiple days.&nbsp\; Park admission is included in the fee so pack an picnic and enjoy the park after the program.&nbsp\; Parents will stay with their children during the program. Pre registration is encouraged.&nbsp\; The program is geared towards 8 and under but children of all ages are welcome to attend!&nbsp\;<br />\n&nbsp\;</p>\n\n<p>DATES:</p>\nFebruary 21: Beaks!<br />\nApril 18: Earth Day<br />\nMay 16: Nests<br />\nJune 20: Bugs<br />\nJuly 18: Waterfowl<br />\n&nbsp\;<br />\n<br />\n&nbsp\;<br />\n<br />\n&nbsp\;<br />\n<br />\n&nbsp\;
LOCATION:Sylvan Heights Bird Park
UID:e.840.1585
SEQUENCE:3
DTSTAMP:20260425T104211Z
URL:https://business.greenvillenc.org/events/details/matilda-and-friends-story-hour-02-21-2015-1585
END:VEVENT

END:VCALENDAR
