BEGIN:VCALENDAR
VERSION:2.0
PRODID:-//ChamberMaster//Event Calendar 2.0//EN
METHOD:PUBLISH
X-PUBLISHED-TTL:P3D
REFRESH-INTERVAL:P3D
CALSCALE:GREGORIAN
BEGIN:VEVENT
DTSTART;VALUE=DATE:20190729
DTEND;VALUE=DATE:20190810
TRANSP:TRANSPARENT
X-MICROSOFT-CDO-ALLDAYEVENT:TRUE
SUMMARY:Mathnasium School Supply Drive
DESCRIPTION:In support of Pitt County School teachers\, we are hosting a\n\nSchool Supply Drive\n\nJuly 29   AUG 9\n\nDonations can be dropped of M-Th 3:00p   7:00p or Sun 12:00p   4:00p\n\n \n\nTeachers are in need of: highlighters\, pencils\, pens\, Expo markers\, copy paper\, construction paper\, lined paper\, erasers\, crayons\, markers\, colored pencils\, stickers\, hand sanitizer\, etc
X-ALT-DESC;FMTTYPE=text/html:<p><span style="font-size:12px">In support of Pitt County School teachers\, we are hosting a<br />\nSchool Supply Drive</span></p>\n\n<p><span style="font-size:12px">July 29 &ndash\; AUG 9</span></p>\n\n<p><span style="font-size:12px">Donations can be dropped of M-Th 3:00p &ndash\; 7:00p or Sun 12:00p &ndash\; 4:00p<br />\n&nbsp\;<br />\nTeachers are in need of: highlighters\, pencils\, pens\, Expo markers\, copy paper\, construction paper\, lined paper\, erasers\, crayons\, markers\, colored pencils\, stickers\, hand sanitizer\, etc</span></p>\n
LOCATION:Mathnasium\, 701 W Fire Tower Rd #C Winterville\, NC 28590
UID:e.840.10334
SEQUENCE:3
DTSTAMP:20260420T121341Z
URL:https://business.greenvillenc.org/events/details/mathnasium-school-supply-drive-10334
END:VEVENT

END:VCALENDAR
