BEGIN:VCALENDAR
VERSION:2.0
PRODID:-//ChamberMaster//Event Calendar 2.0//EN
METHOD:PUBLISH
X-PUBLISHED-TTL:P3D
REFRESH-INTERVAL:P3D
CALSCALE:GREGORIAN
BEGIN:VEVENT
DTSTART:20161008T130000Z
DTEND:20161008T180000Z
X-MICROSOFT-CDO-ALLDAYEVENT:FALSE
SUMMARY:Martin-Pitt Partnership for Children's Touch A Truck
DESCRIPTION:The Martin-Pitt Partnership for Children\, a community non-profit dedicated to ensuring that every single child is prepared for their first day of kindergarten\, is hosting our inaugural Touch A Truck event on Oct. 8\, and we would love to have you there! \n\n \n\nMPPFC funds programs in early literacy\, quality early child care and learning\, assistance finding child care services\, parent and family support\, and health care during the first 2\,000 days of a child's life   roughly the time from birth until they arrive for their first day of kindergarten. NINETY percent of a child's brain growth occurs during those first five years. We have 2\,000 days to get it right.\n\n\n\nJoin us at Physicians East on Arlington Blvd. to get up close and personal with fire trucks\, an ambulance\, a heavy rescue truck\, street sweeper\, bus\, solid waste truck\, D.A.R.E. Hummer\, patrol cars\, Greenville Police Department's Mobile Command Unit\, and more!
X-ALT-DESC;FMTTYPE=text/html:<span style="font-size:11pt">The Martin-Pitt Partnership for Children\, a community non-profit dedicated to ensuring that every single child is prepared for their first day of kindergarten\, is hosting our inaugural Touch A Truck event on Oct. 8\, and we would love to have you there!&nbsp\;</span><br />\n&nbsp\;<br />\n<span style="font-size:11pt">MPPFC funds programs in early literacy\, quality early child care and learning\, assistance finding child care services\, parent and family support\, and health care during the first 2\,000 days of a child&rsquo\;s life &ndash\; roughly the time from birth until they arrive for their first day of kindergarten. NINETY percent of a child&rsquo\;s brain growth occurs during those first five years. We have 2\,000 days to get it right.<br />\n<br />\nJoin us at Physicians East on Arlington Blvd. to get up close and personal with fire trucks\, an ambulance\, a heavy rescue truck\, street sweeper\, bus\, solid waste truck\, D.A.R.E. Hummer\, patrol cars\, Greenville Police Department&#39\;s Mobile Command Unit\, and more!&nbsp\;</span><br />\n&nbsp\;
LOCATION:1850 W Arlington Blvd.\, Greenville\, NC 27858
UID:e.840.5868
SEQUENCE:3
DTSTAMP:20260424T023057Z
URL:https://business.greenvillenc.org/events/details/martin-pitt-partnership-for-children-s-touch-a-truck-5868
END:VEVENT

END:VCALENDAR
