BEGIN:VCALENDAR
VERSION:2.0
PRODID:-//ChamberMaster//Event Calendar 2.0//EN
METHOD:PUBLISH
X-PUBLISHED-TTL:P3D
REFRESH-INTERVAL:P3D
CALSCALE:GREGORIAN
BEGIN:VEVENT
DTSTART:20200328T210000Z
DTEND:20200329T010000Z
X-MICROSOFT-CDO-ALLDAYEVENT:FALSE
SUMMARY:March with the Saints benefitting JPII
DESCRIPTION:March with the Saints is a benefit event and fundraiser for JPII. The experience of our students is possible not only because of the many sacrifices from teachers and parents\, but also from the generosity of sponsors and attendees of March with the Saints. \n\n\n\nJoin us for a night of fun and games with dinner and live and silent auctions to benefit the students attending JPII. \n\n\n\nTickets are $65 per person until February 29 and $75 per person after March 1. Register online at jp2highschool.com/MWTS \n\n\n\nThis year's guest speakers are Mark\, Joe\, and Nick Dellasega\n\n"Fr. Kapaun: A Priest\, A Medal\, A Miracle"
X-ALT-DESC;FMTTYPE=text/html:<span style="color:rgb(29\, 33\, 41)\; font-family:system-ui\,-apple-system\,system-ui\,.sfnstext-regular\,sans-serif\; font-size:14px">March with the Saints is a benefit event and fundraiser for JPII. The experience of our students is possible not only because of the many sacrifices from teachers and parents\, but also from the generosity of sponsors and attendees of March with the Saints. </span><br />\n<br />\n<span style="color:rgb(29\, 33\, 41)\; font-family:system-ui\,-apple-system\,system-ui\,.sfnstext-regular\,sans-serif\; font-size:14px">Join us for a night of fun and games with dinner and live and silent auctions to benefit the students attending JPII. </span><br />\n<br />\n<span style="color:rgb(29\, 33\, 41)\; font-family:system-ui\,-apple-system\,system-ui\,.sfnstext-regular\,sans-serif\; font-size:14px">Tickets are $65 per person until February 29 and $75 per person after March 1. Register online at </span><a href="http://jp2highschool.com/MWTS?fbclid=IwAR0bNX6IEBnfR0jxlAXcuFR45yqJ5RBco7cu2RyZRMKFitLH86jOzAuIeG0" rel="nofollow noopener" style="color: rgb(56\, 88\, 152)\; cursor: pointer\; text-decoration-line: none\; font-family: system-ui\, -apple-system\, system-ui\, &quot\;.SFNSText-Regular&quot\;\, sans-serif\; font-size: 14px\; white-space: pre-wrap\;" target="_blank">jp2highschool.com/MWTS</a><span style="color:rgb(29\, 33\, 41)\; font-family:system-ui\,-apple-system\,system-ui\,.sfnstext-regular\,sans-serif\; font-size:14px"> </span><br />\n<br />\n<span style="color:rgb(29\, 33\, 41)\; font-family:system-ui\,-apple-system\,system-ui\,.sfnstext-regular\,sans-serif\; font-size:14px">This year&#39\;s guest speakers are Mark\, Joe\, and Nick Dellasega</span><br />\n<span style="color:rgb(29\, 33\, 41)\; font-family:system-ui\,-apple-system\,system-ui\,.sfnstext-regular\,sans-serif\; font-size:14px">&quot\;Fr. Kapaun: A Priest\, A Medal\, A Miracle&quot\;</span>
LOCATION:Hilton Greenville
UID:e.840.10998
SEQUENCE:3
DTSTAMP:20260420T030935Z
URL:https://business.greenvillenc.org/events/details/march-with-the-saints-benefitting-jpii-10998
END:VEVENT

END:VCALENDAR
