BEGIN:VCALENDAR
VERSION:2.0
PRODID:-//ChamberMaster//Event Calendar 2.0//EN
METHOD:PUBLISH
X-PUBLISHED-TTL:P3D
REFRESH-INTERVAL:P3D
CALSCALE:GREGORIAN
BEGIN:VEVENT
DTSTART:20200326T213000Z
DTEND:20200327T020000Z
X-MICROSOFT-CDO-ALLDAYEVENT:FALSE
SUMMARY:March Mutual Wine Tasting
DESCRIPTION:Join us on Thursday March 26th for our monthly wine tasting.  This month's tasting is with Patti Manna-Zolbl of Mutual Distributing.  Pattie will be pouring the following:\n\n\n\nDomaine Gayda En Passant\n\nFrance\n\nOur  quest for taste continues through this new blend.  Here we find Macabeau associate with Muscat d'Alexandrie for even more structure and richness whilst keeping its pure freshness.\n\n\n\nSpellound Chardonnay\n\nCalifornia\n\nFeatures bright and lush tropical fruit flavors with notes of vanilla and classic cr me brulee.  Its medium body and bright acidity make for a pleasant and lasting finish on the palate.  \n\n\n\nDona Paula Los Cardo Cabernet Sauvignon \n\nArgentina\n\nDeed ruby red color.  Expressive and spicy in the nose\, \,with aromas of black pepper\, graphite and cassis.  In the mouth\, black fruit and gentle tannins are perceived.  A wine of a long and elegant finish.\n\n\n\nHahn Grenache Syrah Mourve'dre\n\nFrance\n\nEnticing aromas of strawberry\, black cherry\, white pepper and cinnamon.  On the palate\, notes of raspberry\, a hint of cinnamon spice\, along with strawberry and black cherry.  Finishing with a smooth and luscious mouth feel.\n\n\n\nThe tasting is only $12 and all featured wines are $1 off the regular glass price.  Love what you taste?  Take a bottle home at half price!\n\nMake your reservation today via info@daphousnc.com.
X-ALT-DESC;FMTTYPE=text/html:Join us on Thursday March 26th for our monthly wine tasting.&nbsp\; This month&#39\;s tasting is with Patti Manna-Zolbl of Mutual Distributing.&nbsp\; Pattie will be pouring the following:<br />\n<br />\nDomaine Gayda En Passant<br />\nFrance<br />\nOur&nbsp\; quest for taste continues through this new blend.&nbsp\; Here we find Macabeau associate with Muscat d&#39\;Alexandrie for even more structure and richness whilst keeping its pure freshness.<br />\n<br />\nSpellound Chardonnay<br />\nCalifornia<br />\nFeatures bright and lush tropical fruit flavors with notes of vanilla and classic cr&egrave\;me brulee.&nbsp\; Its medium body and bright acidity make for a pleasant and lasting finish on the palate. &nbsp\;<br />\n<br />\nDona Paula Los Cardo Cabernet Sauvignon&nbsp\;<br />\nArgentina<br />\nDeed ruby red color.&nbsp\; Expressive and spicy in the nose\, \,with aromas of black pepper\, graphite and cassis.&nbsp\; In the mouth\, black fruit and gentle tannins are perceived.&nbsp\; A wine of a long and elegant finish.<br />\n<br />\nHahn Grenache Syrah Mourve&#39\;dre<br />\nFrance<br />\nEnticing aromas of strawberry\, black cherry\, white pepper and cinnamon.&nbsp\; On the palate\, notes of raspberry\, a hint of cinnamon spice\, along with strawberry and black cherry.&nbsp\; Finishing with a smooth and luscious mouth feel.<br />\n<br />\nThe tasting is only $12 and all featured wines are $1 off the regular glass price.&nbsp\; Love what you taste?&nbsp\; Take a bottle home at half price!<br />\nMake your reservation today via info@daphousnc.com.
LOCATION:Dickinson Avenue Public House 703 Dickinson Ave Greenville NC 27834
UID:e.840.11411
SEQUENCE:3
DTSTAMP:20260420T014923Z
URL:https://business.greenvillenc.org/events/details/march-mutual-wine-tasting-11411
END:VEVENT

END:VCALENDAR
