BEGIN:VCALENDAR
VERSION:2.0
PRODID:-//ChamberMaster//Event Calendar 2.0//EN
METHOD:PUBLISH
X-PUBLISHED-TTL:P3D
REFRESH-INTERVAL:P3D
CALSCALE:GREGORIAN
BEGIN:VEVENT
DTSTART:20181110T133000Z
DTEND:20181110T170000Z
X-MICROSOFT-CDO-ALLDAYEVENT:FALSE
SUMMARY:March for Babies - Greenville
DESCRIPTION:Our mission is to improve the health of babies by preventing birth defects\, premature birth\, and infant mortality. The March for Babies is our signature event bringing residents in Greenville and the surrounding areas together for one walk\, one voice\, and with the hope that one day all babies will be born healthy.  There will be kids activities\, food and fun for the whole family. Be a part of something greater than us all...a part of saving a baby's life. It's good to give and good to get something back.\n\n\n\nPremature birth is the leading cause of infant death in North Carolina.  Each year\, more than 16\,000 babies are born too soon in North Carolina. Many premature babies suffer lifelong consequences such as mental disability\, blindness\, learning disability\, and cerebral palsy.  The average medical cost of one premature baby is estimated at $50\,000\, while the total annual cost nationwide is more than $26 billion. The emotional costs for families are immeasurable.\n\n\n\nStart a team and raise money to help moms have full-term pregnancies and healthy babies. We research the problems that threaten our babies and work on preventing them. The money you and your team raise also helps us bring information and comfort to parents with a baby in the NICU and helps more women and children in our community get access to health care. We know your real reward is knowing that you're helping babies.\n\n\n\nPlease support the March for Babies in Greenville by registering your team at www.Marchofdimes.org and raise funds for valuable research\, prenatal vitamen distribution\, education.  Did you know that if your have children\, your lives were touched by the March of Dimes through nurse education and child immunizations..
X-ALT-DESC;FMTTYPE=text/html:Our mission is to improve the health of babies by preventing birth defects\, premature birth\, and infant mortality. The March for Babies is our signature event bringing residents in Greenville and the surrounding areas together for one walk\, one voice\, and with the hope that one day all babies will be born healthy.&nbsp\; There will be kids activities\, food and fun for the whole family. Be a part of something greater than us all...a part of saving a baby&#39\;s life. It&#39\;s good to give and good to get something back.<br />\n<br />\nPremature birth is the leading cause of infant death in North Carolina.&nbsp\; Each year\, more than 16\,000 babies are born too soon in North Carolina. Many premature babies suffer lifelong consequences such as mental disability\, blindness\, learning disability\, and cerebral palsy.&nbsp\; The average medical cost of one premature baby is estimated at $50\,000\, while the total annual cost nationwide is more than $26 billion. The emotional costs for families are immeasurable.<br />\n<br />\nStart a team and raise money to help moms have&nbsp\;full-term pregnancies and healthy babies. We research the problems that threaten our babies and work on preventing them. The money you and your team raise also helps us bring information and comfort to parents with a baby in the NICU and helps more women and children in our community get access to health care. We know your real reward is knowing that you&#39\;re helping babies.<br />\n<br />\nPlease support the March for Babies in Greenville by registering your team at&nbsp\;www.M<a href="http://www.Marchofdimes.org">archofdimes.org</a>&nbsp\;and raise funds for valuable research\, prenatal vitamen distribution\, education.&nbsp\; Did you know that if your have children\, your lives were touched by the March of Dimes through nurse education and child immunizations..<br />\n<br />\n&nbsp\;
LOCATION:Town Commons - Meet and register at the stage
UID:e.840.1796
SEQUENCE:3
DTSTAMP:20260421T001159Z
URL:https://business.greenvillenc.org/events/details/march-for-babies-greenville-10-10-2015-1796
END:VEVENT

END:VCALENDAR
