BEGIN:VCALENDAR
VERSION:2.0
PRODID:-//ChamberMaster//Event Calendar 2.0//EN
METHOD:PUBLISH
X-PUBLISHED-TTL:P3D
REFRESH-INTERVAL:P3D
CALSCALE:GREGORIAN
BEGIN:VEVENT
DTSTART:20170527T200000Z
DTEND:20170528T020000Z
X-MICROSOFT-CDO-ALLDAYEVENT:FALSE
SUMMARY:Manuel Donayre in Concert
DESCRIPTION:A unique event where great musicians\, entertainers\, and professional dancers will gather and celebrate the 55 year old artistic career of Manuel Donayre.
X-ALT-DESC;FMTTYPE=text/html:A unique event where great musicians\, entertainers\, and professional dancers will gather and celebrate the 55 year old artistic career of Manuel Donayre.
LOCATION:Greenville Convention Center 302 Greenville Blvd SW Greenville\, NC 27834
UID:e.840.8624
SEQUENCE:3
DTSTAMP:20260423T152748Z
URL:https://business.greenvillenc.org/events/details/manuel-donayre-in-concert-8624
END:VEVENT

END:VCALENDAR
