BEGIN:VCALENDAR
VERSION:2.0
PRODID:-//ChamberMaster//Event Calendar 2.0//EN
METHOD:PUBLISH
X-PUBLISHED-TTL:P3D
REFRESH-INTERVAL:P3D
CALSCALE:GREGORIAN
BEGIN:VEVENT
DTSTART:20191012T120000Z
DTEND:20191012T170000Z
X-MICROSOFT-CDO-ALLDAYEVENT:FALSE
SUMMARY:Making Strides Against Breast Cancer of Eastern NC Presented by Eastern Radiologist Breast Imaging
DESCRIPTION:The American Cancer Society Making Strides Against Breast Cancer walks raise awareness and funds to save lives from breast cancer. Each event is a noncompetitive 3 to 5 mile walk that brings people together to make a difference for everyone who has been touched by breast cancer. The events raise money to fund innovative research\, provide free information and support\, and to help people reduce their breast cancer risk or find it early when it's most treatable.\n\nFrom the opening ceremony to the post-walk entertainment\, a Making Strides event is a celebration of survivors and opportunity to remember loved-ones lost. It's a day that shouldn't be missed and won't be forgotten.
X-ALT-DESC;FMTTYPE=text/html:<p>The American Cancer Society Making Strides Against Breast Cancer walks raise awareness and funds to save lives from breast cancer. Each event is a noncompetitive 3 to 5 mile walk that brings people together to make a difference for everyone who has been touched by breast cancer. The events raise money to fund innovative research\, provide free information and support\, and to help people reduce their breast cancer risk or find it early when it&#39\;s most treatable.</p>\n\n<p>From the opening ceremony to the post-walk entertainment\, a Making Strides event is a celebration of survivors and opportunity to remember loved-ones lost. It&#39\;s a day that shouldn&#39\;t be missed and won&#39\;t be forgotten.</p>\n
LOCATION:Greenville Town Common 105 E 1st St\, Greenville\, NC 27858
UID:e.840.10055
SEQUENCE:3
DTSTAMP:20260420T093358Z
URL:https://business.greenvillenc.org/events/details/making-strides-against-breast-cancer-of-eastern-nc-presented-by-eastern-radiologist-breast-imaging-10055
END:VEVENT

END:VCALENDAR
