BEGIN:VCALENDAR
VERSION:2.0
PRODID:-//ChamberMaster//Event Calendar 2.0//EN
METHOD:PUBLISH
X-PUBLISHED-TTL:P3D
REFRESH-INTERVAL:P3D
CALSCALE:GREGORIAN
BEGIN:VEVENT
DTSTART:20191019T130000Z
DTEND:20191019T140000Z
X-MICROSOFT-CDO-ALLDAYEVENT:FALSE
SUMMARY:Making A Difference in Greenville\, North Carolina
DESCRIPTION:Greenville Heart Walk \n\nOctober 2019\n\nEast Carolina University Campus Dowdy Stadium Athletics Complex\n\n\n\ngreenvilleheartwalk.org\n\n                                                                                 \n\nOur Mission: To be a relentless force for a world of longer\, healthier lives
X-ALT-DESC;FMTTYPE=text/html:<span style="color:#FF0000"><span style="font-size:14px"><strong>Greenville Heart Walk&nbsp\;</strong></span></span><br />\nOctober 2019<br />\nEast Carolina University Campus Dowdy Stadium Athletics Complex<br />\n<br />\n<a href="https://www2.heart.org/site/TR\;jsessionid=00000000.app30115b?fr_id=4354&amp\;pg=entry&amp\;NONCE_TOKEN=9BA98FF1526593811F31B319D08AAEE1">greenvilleheartwalk.org</a><br />\n<strong><span style="color:#FF0000"><span style="font-family:sans-serif\; font-size:14px">&bull\; &bull\;&nbsp\;&bull\; &bull\; &bull\; &bull\; &bull\; &bull\; &bull\; &bull\; &bull\; &bull\; &bull\; &bull\; &bull\; &bull\; &bull\; &bull\; &bull\; &bull\; &bull\; &bull\; &bull\; &bull\; &bull\; &bull\; &bull\; &bull\; &bull\; &bull\; &bull\; &bull\; &bull\; &bull\; &bull\; &bull\; &bull\; &bull\; &bull\; &bull\; &bull\;</span></span><br />\n<span style="color:rgb(255\, 255\, 255)"><span style="font-family:sans-serif\; font-size:14px"><span style="background-color:rgb(255\, 0\, 0)">Our Mission: To be a relentless force for a world of longer\, healthier lives</span></span></span></strong><br />\n&nbsp\;
LOCATION:East Carolina University Campus - Dowdy Stadium Athletics Complex E 5th St Greenville\, NC 27858
UID:e.840.10789
SEQUENCE:3
DTSTAMP:20260420T104025Z
URL:https://business.greenvillenc.org/events/details/making-a-difference-in-greenville-north-carolina-10789
END:VEVENT

END:VCALENDAR
