BEGIN:VCALENDAR
VERSION:2.0
PRODID:-//ChamberMaster//Event Calendar 2.0//EN
METHOD:PUBLISH
X-PUBLISHED-TTL:P3D
REFRESH-INTERVAL:P3D
CALSCALE:GREGORIAN
BEGIN:VEVENT
DTSTART:20200208T230000Z
DTEND:20200209T030000Z
X-MICROSOFT-CDO-ALLDAYEVENT:FALSE
SUMMARY:Making A Difference in Greenville\, North Carolina
DESCRIPTION:Greenville Heart Ball\n\nFebruary 2020\n\nHilton Greenville\n\n\n\ngreenvillencheartball.heart.org\n\n                                                                                 \n\nOur Mission: To be a relentless force for a world of longer\, healthier lives
X-ALT-DESC;FMTTYPE=text/html:<strong><span style="color:rgb(255\, 0\, 0)"><span style="font-family:sans-serif\; font-size:14px">Greenville Heart Ball</span></span></strong><br />\nFebruary 2020<br />\nHilton Greenville<br />\n<br />\n<a href="https://ahagreenvillenc.ejoinme.org/MyEvents/20192020GreenvilleNCHeartBall/tabid/1063217/Default.aspx">greenvillencheartball.heart.org</a><br />\n<strong><span style="color:rgb(255\, 0\, 0)"><span style="font-family:sans-serif\; font-size:14px">&bull\; &bull\;&nbsp\;&bull\; &bull\; &bull\; &bull\; &bull\; &bull\; &bull\; &bull\; &bull\; &bull\; &bull\; &bull\; &bull\; &bull\; &bull\; &bull\; &bull\; &bull\; &bull\; &bull\; &bull\; &bull\; &bull\; &bull\; &bull\; &bull\; &bull\; &bull\; &bull\; &bull\; &bull\; &bull\; &bull\; &bull\; &bull\; &bull\; &bull\; &bull\; &bull\;</span></span><br />\n<span style="color:#FFFFFF"><span style="font-family:sans-serif\; font-size:14px"><span style="background-color:#FF0000">Our Mission: To be a relentless force for a world of longer\, healthier lives</span></span></span></strong>
LOCATION:Hilton Greenville
UID:e.840.10790
SEQUENCE:3
DTSTAMP:20260420T031124Z
URL:https://business.greenvillenc.org/events/details/making-a-difference-in-greenville-north-carolina-02-08-2020-10790
END:VEVENT

END:VCALENDAR
