BEGIN:VCALENDAR
VERSION:2.0
PRODID:-//ChamberMaster//Event Calendar 2.0//EN
METHOD:PUBLISH
X-PUBLISHED-TTL:P3D
REFRESH-INTERVAL:P3D
CALSCALE:GREGORIAN
BEGIN:VEVENT
DTSTART:20170218T160000Z
DTEND:20170218T170000Z
X-MICROSOFT-CDO-ALLDAYEVENT:FALSE
SUMMARY:Mad Magic - Hocus Pocus Chemistry Focus
DESCRIPTION:Chemistry Magic Show! Fun for all!
X-ALT-DESC;FMTTYPE=text/html:Chemistry Magic Show! Fun for all!
LOCATION:GO-Science 729 Dickenson Avenue Greenville\, NC 27834
UID:e.840.7848
SEQUENCE:3
DTSTAMP:20260423T193540Z
URL:https://business.greenvillenc.org/events/details/mad-magic-hocus-pocus-chemistry-focus-7848
END:VEVENT

END:VCALENDAR
