BEGIN:VCALENDAR
VERSION:2.0
PRODID:-//ChamberMaster//Event Calendar 2.0//EN
METHOD:PUBLISH
X-PUBLISHED-TTL:P3D
REFRESH-INTERVAL:P3D
CALSCALE:GREGORIAN
BEGIN:VEVENT
DTSTART:20161028T000000Z
DTEND:20161028T030000Z
X-MICROSOFT-CDO-ALLDAYEVENT:FALSE
SUMMARY:Mac & Juice Quartet at Ribeyes
DESCRIPTION:Local favorites\, the Mac & Juice Quartet will be bringing their eclectic sound to Ribeye's Steakhouse on Thursday\, Oct 27th from 8-11.  This is going to be a great show as we will also be celebrating Mac's Birthday.
X-ALT-DESC;FMTTYPE=text/html:Local favorites\, the Mac &amp\; Juice Quartet will be bringing their eclectic sound to Ribeye&#39\;s Steakhouse on Thursday\, Oct 27th from 8-11.&nbsp\; This is going to be a great show as we will also be celebrating Mac&#39\;s Birthday.
LOCATION:Ribeye's Steakhouse 1909 A Firetower Rd Greenville NC 27858
UID:e.840.6294
SEQUENCE:3
DTSTAMP:20260424T022410Z
URL:https://business.greenvillenc.org/events/details/mac-juice-quartet-at-ribeyes-6294
END:VEVENT

END:VCALENDAR
