BEGIN:VCALENDAR
VERSION:2.0
PRODID:-//ChamberMaster//Event Calendar 2.0//EN
METHOD:PUBLISH
X-PUBLISHED-TTL:P3D
REFRESH-INTERVAL:P3D
CALSCALE:GREGORIAN
BEGIN:VEVENT
DTSTART:20180207T163000Z
DTEND:20180207T183000Z
X-MICROSOFT-CDO-ALLDAYEVENT:FALSE
SUMMARY:Lunch-N-Learn: Risk Management
DESCRIPTION:Do you understand the external and internal factors which affect risk for your small business? Learn how to recognize the common warning signs of risk and how to implement\, monitor\, and evaluate a risk management plan for your business. Guest speakers are Megan Jones\, Assistant VP at Woodforest National Bank\, and Byron Joyner\, Community Banker at Woodforest National Bank.\n\n\n\nJoin other Entrepreneurs and Small Business Owners for this free event. Lunch is available for purchase at the buffet.
X-ALT-DESC;FMTTYPE=text/html:<p><strong>Do you understand the external and internal factors which affect risk for your small business? Learn how to recognize the common warning signs of risk and how to implement\, monitor\, and evaluate a risk management plan for your business. Guest speakers are Megan Jones\, Assistant VP at Woodforest National Bank\, and Byron Joyner\, Community Banker at Woodforest National Bank.<br />\n<br />\nJoin other Entrepreneurs and Small Business Owners for this free event. Lunch is available for purchase at the buffet.&nbsp\;</strong></p>\n
LOCATION:Greenville Hilton - 207 Greenville Blvd.
UID:e.840.8696
SEQUENCE:3
DTSTAMP:20260423T015323Z
URL:https://business.greenvillenc.org/events/details/lunch-n-learn-risk-management-8696
END:VEVENT

END:VCALENDAR
