BEGIN:VCALENDAR
VERSION:2.0
PRODID:-//ChamberMaster//Event Calendar 2.0//EN
METHOD:PUBLISH
X-PUBLISHED-TTL:P3D
REFRESH-INTERVAL:P3D
CALSCALE:GREGORIAN
BEGIN:VEVENT
DTSTART:20180321T153000Z
DTEND:20180321T173000Z
X-MICROSOFT-CDO-ALLDAYEVENT:FALSE
SUMMARY:Lunch-N-Learn: Insurance Choices for Small Business
DESCRIPTION:Learn how to understand your insurance needs and how to choose the right insurance products for your business. Guest speaker is Shameka Carter\, Community Banker of Woodforest National Bank.\n\n\n\nGreat for entrepreneurs and small business owners! You can purchase your lunch at the buffet\, or bring your own.\n\n\n\nFor more information\, call 252.493.7528 or register athttps://www.ncsbc.net/workshop.aspx?ekey=380380029
X-ALT-DESC;FMTTYPE=text/html:<span style="color:rgb(75\, 79\, 86)\; font-family:sf optimized\,system-ui\,-apple-system\,system-ui\,.sfnstext-regular\,sans-serif\; font-size:14px">Learn how to understand your insurance needs and how to choose the right insurance products for your business. Guest speaker is Shameka Carter\, Community Banker of Woodforest National Bank.</span><br />\n<br />\n<span style="color:rgb(75\, 79\, 86)\; font-family:sf optimized\,system-ui\,-apple-system\,system-ui\,.sfnstext-regular\,sans-serif\; font-size:14px">Great for entrepreneurs and small business owners! You can purchase your lunch at the buffet\, or bring your own.</span><br />\n<br />\n<span style="color:rgb(75\, 79\, 86)\; font-family:sf optimized\,system-ui\,-apple-system\,system-ui\,.sfnstext-regular\,sans-serif\; font-size:14px">For more information\, call 252.493.7528 or register </span><span style="color:rgb(75\, 79\, 86)\; font-family:sf optimized\,system-ui\,-apple-system\,system-ui\,.sfnstext-regular\,sans-serif\; font-size:14px">at</span><a href="https://l.facebook.com/l.php?u=https%3A%2F%2Fwww.ncsbc.net%2Fworkshop.aspx%3Fekey%3D380380029&amp\;h=ATP5GP4MhHZP38RS2b4t1iXIoufpOtu4bflDLtbg62rMHUU-CXQHnG4UdaMGJ2IXnI1vQnO6gOL0AV5ViMi3viWZK0LLJ3JXQnUL32GD0ChCQDKrLjh0pV0" rel="nofollow noopener" style="color: rgb(54\, 88\, 153)\; cursor: pointer\; text-decoration-line: none\; font-family: &quot\;SF Optimized&quot\;\, system-ui\, -apple-system\, system-ui\, &quot\;.SFNSText-Regular&quot\;\, sans-serif\; font-size: 14px\; letter-spacing: -0.12px\;" target="_blank"><span style="font-family:inherit">https</span></a><a href="https://l.facebook.com/l.php?u=https%3A%2F%2Fwww.ncsbc.net%2Fworkshop.aspx%3Fekey%3D380380029&amp\;h=ATP5GP4MhHZP38RS2b4t1iXIoufpOtu4bflDLtbg62rMHUU-CXQHnG4UdaMGJ2IXnI1vQnO6gOL0AV5ViMi3viWZK0LLJ3JXQnUL32GD0ChCQDKrLjh0pV0" rel="nofollow noopener" style="color: rgb(54\, 88\, 153)\; cursor: pointer\; text-decoration-line: none\; font-family: &quot\;SF Optimized&quot\;\, system-ui\, -apple-system\, system-ui\, &quot\;.SFNSText-Regular&quot\;\, sans-serif\; font-size: 14px\; letter-spacing: -0.12px\;" target="_blank"><span style="font-family:inherit">://www.ncsbc.net/</span><span style="font-family:inherit">workshop.aspx?ekey=38038002</span>9</a>
LOCATION:Greenville Hilton
UID:e.840.8735
SEQUENCE:3
DTSTAMP:20260423T002535Z
URL:https://business.greenvillenc.org/events/details/lunch-n-learn-insurance-choices-for-small-business-8735
END:VEVENT

END:VCALENDAR
