BEGIN:VCALENDAR
VERSION:2.0
PRODID:-//ChamberMaster//Event Calendar 2.0//EN
METHOD:PUBLISH
X-PUBLISHED-TTL:P3D
REFRESH-INTERVAL:P3D
CALSCALE:GREGORIAN
BEGIN:VEVENT
DTSTART:20170920T153000Z
DTEND:20170920T173000Z
X-MICROSOFT-CDO-ALLDAYEVENT:FALSE
SUMMARY:Lunch-N-Learn: 10 Best Strategies for Business Success
DESCRIPTION:Bring your lunch and join other Entrepreneurs and Small Business Owners! \nMike Aman\, founder and senior advisor at One Source Communications\, a Managed Communications & IT Services Provider located in Greenville\, NC will present on the Top Ten Tips to starting and sustaining a successful business.\n\nOver the past 20 years\, Mike grew his team at One Source Communications to over 125 employees with a servant leadership management style to become one of the top managed service providers in their industry serving clients such as Airgas\, Fresh Market\, Arby's\, Grady White Boats and many others.\n\nMike earned his BSBA and MBA from East Carolina University and was the original "Pee Dee the Pirate" at ECU.  He has owned and operated several different businesses over the past 30+ years and will share his experiences and lessons learned as an entrepreneur.\n\n\n\nFREE! Pre-registration is required: https://www.ncsbc.net/workshop.aspx?ekey=380370081
X-ALT-DESC;FMTTYPE=text/html:Bring your lunch and join other Entrepreneurs and Small Business Owners!&nbsp\;\n<p>Mike Aman\, founder and senior advisor at One Source Communications\, a Managed Communications &amp\; IT Services Provider located in Greenville\, NC will present on the Top Ten Tips to starting and sustaining a successful business.</p>\n\n<p>Over the past 20 years\, Mike grew his team at One Source Communications to over 125 employees with a servant leadership management style to become one of the top managed service providers in their industry serving clients such as Airgas\, Fresh Market\, Arby&rsquo\;s\, Grady White Boats and many others.</p>\n\n<p>Mike earned his BSBA and MBA from East Carolina University and was the original &ldquo\;Pee Dee the Pirate&rdquo\; at ECU.&nbsp\; He has owned and operated several different businesses over the past 30+ years and will share his experiences and lessons learned as an entrepreneur.<br />\n<br />\nFREE! Pre-registration is required:&nbsp\;<strong>https://www.ncsbc.net/workshop.aspx?ekey=380370081</strong></p>\n
LOCATION:Pitt Community College Greenville Center\, Room 301 3107 S. Memorial Drive
UID:e.840.8656
SEQUENCE:3
DTSTAMP:20260423T093258Z
URL:https://business.greenvillenc.org/events/details/lunch-n-learn-10-best-strategies-for-business-success-8656
END:VEVENT

END:VCALENDAR
