BEGIN:VCALENDAR
VERSION:2.0
PRODID:-//ChamberMaster//Event Calendar 2.0//EN
METHOD:PUBLISH
X-PUBLISHED-TTL:P3D
REFRESH-INTERVAL:P3D
CALSCALE:GREGORIAN
BEGIN:VEVENT
DTSTART:20190103T190000Z
DTEND:20190104T000000Z
X-MICROSOFT-CDO-ALLDAYEVENT:FALSE
SUMMARY:Longhorn Steakhouse Blood Drive
DESCRIPTION:The Blood Connection will be partnering with Longhorn Steakhouse to host a blood drive January 3rd from 2:00pm to 7:00pm. Every Donor will get a $20 gift card to Longhorn from the The Blood Connection and Longhorn will be giving a $10 gift card to each donor as well. The Blood Connection is the sole blood provider for Vidant Health.  All blood will be used by local patients at Vidant.
X-ALT-DESC;FMTTYPE=text/html:<font color="#1d2129" face="helvetica\, arial\, sans-serif"><span style="font-size:14px">The Blood Connection will be partnering with Longhorn Steakhouse to host a blood drive January 3rd from 2:00pm to 7:00pm. Every Donor will get a $20 gift card to Longhorn from the The Blood Connection and Longhorn will be giving a $10 gift card to each donor as well. The Blood Connection is the sole blood provider for Vidant Health.&nbsp\; All blood will be used by local patients at Vidant.&nbsp\;</span></font>
LOCATION:Longhorn Steakhouse 520 SE Greenville Blvd. Greenville NC 27858
UID:e.840.9750
SEQUENCE:3
DTSTAMP:20260420T214609Z
URL:https://business.greenvillenc.org/events/details/longhorn-steakhouse-blood-drive-9750
END:VEVENT

END:VCALENDAR
