BEGIN:VCALENDAR
VERSION:2.0
PRODID:-//ChamberMaster//Event Calendar 2.0//EN
METHOD:PUBLISH
X-PUBLISHED-TTL:P3D
REFRESH-INTERVAL:P3D
CALSCALE:GREGORIAN
BEGIN:VEVENT
DTSTART;VALUE=DATE:20170209
DTEND;VALUE=DATE:20170210
TRANSP:TRANSPARENT
X-MICROSOFT-CDO-ALLDAYEVENT:TRUE
SUMMARY:Live Music at Crossbones- William Seymour
DESCRIPTION:Live Music at Crossbones featuring William Seymour
X-ALT-DESC;FMTTYPE=text/html:Live Music at Crossbones featuring William Seymour
LOCATION:114 E. 5th Street Greenville\, NC 27858
UID:e.840.7811
SEQUENCE:3
DTSTAMP:20260423T193956Z
URL:https://business.greenvillenc.org/events/details/live-music-at-crossbones-william-seymour-7811
END:VEVENT

END:VCALENDAR
