BEGIN:VCALENDAR
VERSION:2.0
PRODID:-//ChamberMaster//Event Calendar 2.0//EN
METHOD:PUBLISH
X-PUBLISHED-TTL:P3D
REFRESH-INTERVAL:P3D
CALSCALE:GREGORIAN
BEGIN:VEVENT
DTSTART;VALUE=DATE:20170216
DTEND;VALUE=DATE:20170217
TRANSP:TRANSPARENT
X-MICROSOFT-CDO-ALLDAYEVENT:TRUE
SUMMARY:Live Music at Crossbones Tavern- Travers Brothership
DESCRIPTION:This sound is a new groove of epic proportions. \n\n\n\nWith the use of electric or acoustic instruments\; our band projects a wide variety of music making each concert unique. The Brothership performs live with 4 to 7 musicians\, performing a vast repertoire of original and covered music. Utilizing the Travers Brothers' roots of Soulful Blues\, Rock\, Funk\, Jazz and Improvisational jam\, the band covers all the bases. \n\n\n\nOur goal is to provide an atmosphere that conveys a message of community and emotional fulfillment with grooves that are sure to get you on the dance floor.\n\n\n\n"The band are consummate musicians\, jam-band aficionados with a deep understanding of their preferred genre. Put simply\, they rock\, and in doing so\, their enthusiasm\, gusto and talents carry the day."  Robert F\, Leicester Bangs\n\n\n\n"This is a band that possesses a soulful magic and heart you don't find in many young bands. This is real art."  Danny Harlen Mote\, Lucky Trend Music.
X-ALT-DESC;FMTTYPE=text/html:<span style="background-color:rgb(255\, 255\, 255)\; color:rgb(29\, 33\, 41)\; font-family:helvetica neue\,helvetica\,arial\,sans-serif\; font-size:14px">This sound is a new groove of epic proportions.&nbsp\;</span><br />\n<br />\n<span style="background-color:rgb(255\, 255\, 255)\; color:rgb(29\, 33\, 41)\; font-family:helvetica neue\,helvetica\,arial\,sans-serif\; font-size:14px">With the use of electric or acoustic instruments\; our band projects a wide variety of music making each concert unique. The Brothership performs live with 4 to 7 musicians\, performing a vast repertoire of original and covered music. Utilizing the Travers Brothers&#39\; roots of Soulful Blues\, Rock\, Funk\, Jazz and Improvisational jam\, the band covers all</span><span style="background-color:rgb(255\, 255\, 255)\; color:rgb(29\, 33\, 41)\; font-family:helvetica neue\,helvetica\,arial\,sans-serif\; font-size:14px">&nbsp\;the bases.&nbsp\;<br />\n<br />\nOur goal is to provide an atmosphere that conveys a message of community and emotional fulfillment with grooves that are sure to get you on the dance floor.<br />\n<br />\n&ldquo\;The band are consummate musicians\, jam-band aficionados with a deep understanding of their preferred genre. Put simply\, they rock\, and in doing so\, their enthusiasm\, gusto and talents carry the day.&rdquo\; &ndash\;Robert F\, Leicester Bangs<br />\n<br />\n&ldquo\;This is a band that possesses a soulful magic and heart you don&rsquo\;t find in many young bands. This is real art.&quot\; &ndash\;Danny Harlen Mote\, Lucky Trend Music.</span>
LOCATION:114 E. 5th Street Greenville\, NC 27858
UID:e.840.7814
SEQUENCE:3
DTSTAMP:20260423T194124Z
URL:https://business.greenvillenc.org/events/details/live-music-at-crossbones-tavern-travers-brothership-7814
END:VEVENT

END:VCALENDAR
