BEGIN:VCALENDAR
VERSION:2.0
PRODID:-//ChamberMaster//Event Calendar 2.0//EN
METHOD:PUBLISH
X-PUBLISHED-TTL:P3D
REFRESH-INTERVAL:P3D
CALSCALE:GREGORIAN
BEGIN:VEVENT
DTSTART;VALUE=DATE:20170210
DTEND;VALUE=DATE:20170211
TRANSP:TRANSPARENT
X-MICROSOFT-CDO-ALLDAYEVENT:TRUE
SUMMARY:Live Music at Crossbones Tavern- LITZ
DESCRIPTION:Join us for our return to Crossbones Tavern!\n\n\n\nWe'll be laying down two funky sets for y'all to groove to all night long!\n\n\n\nLITZ brings together a wide array of musical influences ranging from funk\, jam\, go-go\, soul\, electronica and just about everywhere inbetween to amalgamate a new sound for the ears of the world. Their sound strides to sonically transport its listeners to another planet free of the stress\, struggles\, and tribulations of modern day life through the use of funky horn riffs\, wah-wah keys\, pounding bass\, driving/progressive rhythms and melt your face guitar.
X-ALT-DESC;FMTTYPE=text/html:<span style="background-color:rgb(255\, 255\, 255)\; color:rgb(75\, 79\, 86)\; font-family:helvetica neue\,helvetica\,arial\,sans-serif\; font-size:14px">Join us for our return to Crossbones Tavern!</span><br />\n<br />\n<span style="background-color:rgb(255\, 255\, 255)\; color:rgb(75\, 79\, 86)\; font-family:helvetica neue\,helvetica\,arial\,sans-serif\; font-size:14px">We&#39\;ll be laying down two funky sets for y&#39\;all to groove to all night long!</span><br />\n<br />\n<a href="https://www.facebook.com/LITZjams/" style="color: rgb(54\, 88\, 153)\; cursor: pointer\; text-decoration: none\; font-family: 'Helvetica Neue'\, Helvetica\, Arial\, sans-serif\; font-size: 14px\; line-height: 18.76px\; background-color: rgb(255\, 255\, 255)\;">LITZ</a><span style="background-color:rgb(255\, 255\, 255)\; color:rgb(75\, 79\, 86)\; font-family:helvetica neue\,helvetica\,arial\,sans-serif\; font-size:14px">&nbsp\;brings together a wide array of musical influences ranging from funk\, jam\, go-go\, soul\, electronica and just about everywhere inbetween to amalgamate a new sound for the ears of the world. Their sound strides to sonically transport its listeners to another planet free of the stress\, struggles\, and tribulations of modern day life through the use of funky horn riffs\, wah-wah keys\, pounding bass\, driving/progressive rhythms and melt your face guitar.</span>
LOCATION:114 E. 5th Street Greenville\, NC 27858
UID:e.840.7812
SEQUENCE:3
DTSTAMP:20260423T211459Z
URL:https://business.greenvillenc.org/events/details/live-music-at-crossbones-tavern-litz-7812
END:VEVENT

END:VCALENDAR
