BEGIN:VCALENDAR
VERSION:2.0
PRODID:-//ChamberMaster//Event Calendar 2.0//EN
METHOD:PUBLISH
X-PUBLISHED-TTL:P3D
REFRESH-INTERVAL:P3D
CALSCALE:GREGORIAN
BEGIN:VEVENT
DTSTART;VALUE=DATE:20170211
DTEND;VALUE=DATE:20170212
TRANSP:TRANSPARENT
X-MICROSOFT-CDO-ALLDAYEVENT:TRUE
SUMMARY:Live Music at Crossbones Tavern- Jahman Brahman
DESCRIPTION:Jahman Brahman is a five-member collaboration originating from Columbus\, Ohio in 2007\, and currently residing in the mountains of Asheville\, NC. The musical intuition of each member overcomes the restrictions of any particular genre as they pioneer the musical trail with a sound completely their own. The name Jahman Brahman emerged from each member's goal to achieve the ultimate state of musical cohesion\; each instrument connected to one another to create a piece of music from the heart of one. They've described their particular style as shred 'n' flow\, a dynamic sound with a wide breath of influence\, but a focus on rich\, fluid\, progressions of energy. Providing the low end\, Nate "Brother" Brown brings his own style of funked out and super fresh bass grooves. Layered on top are Daniel Combs' transcendent key strokes and myriad of effects\, which highlight Justin Brown's full and conscious lyrics. Drummer Chuck Knott gives the sound its steady concrete pulse providing the heartbeat for Casey Chanatry's riveting guitar-work. Combined\, Jahman Brahman leaves the listener with a message on life\, love\, and the wonders experienced being part of an extraordinary musical family. Each member holds a unique passion toward many different audio paths\, with influences ranging from classic rock to electronica\; from punk to jazz. Instead of conforming\, they ascend music through the coalescence of their diverse styles\, taking risks that unfold into powerful jams and creative compositions.
X-ALT-DESC;FMTTYPE=text/html:<span style="background-color:rgb(255\, 255\, 255)\; color:rgb(29\, 33\, 41)\; font-family:helvetica neue\,helvetica\,arial\,sans-serif\; font-size:12px">Jahman Brahman is a five-member collaboration originating from Columbus\, Ohio in 2007\, and currently residing in the mountains of Asheville\, NC. The musical int</span><span style="background-color:rgb(255\, 255\, 255)\; color:rgb(29\, 33\, 41)\; font-family:helvetica neue\,helvetica\,arial\,sans-serif\; font-size:12px">uition of each member overcomes the restrictions of any particular genre as they pioneer the musical trail with a sound completely their own. The name Jahman Brahman emerged from each member&rsquo\;s goal to achieve the ultimate state of musical cohesion\; each instrument connected to one another to create a piece of music from the heart of one. They&rsquo\;ve described their particular style as shred &lsquo\;n&rsquo\; flow\, a dynamic sound with a wide breath of influence\, but a focus on rich\, fluid\, progressions of energy. Providing the low end\, Nate &ldquo\;Brother&rdquo\; Brown brings his own style of funked out and super fresh bass grooves. Layered on top are Daniel Combs&#39\; transcendent key strokes and myriad of effects\, which highlight Justin Brown&rsquo\;s full and conscious lyrics. Drummer Chuck Knott gives the sound its steady concrete pulse providing the heartbeat for Casey Chanatry&rsquo\;s riveting guitar-work. Combined\, Jahman Brahman leaves the listener with a message on life\, love\, and the wonders experienced being part of an extraordinary musical family. Each member holds a unique passion toward many different audio paths\, with influences ranging from classic rock to electronica\; from punk to jazz. Instead of conforming\, they ascend music through the coalescence of their diverse styles\, taking risks that unfold into powerful jams and creative compositions.</span>
LOCATION:114 E. 5th Street Greenville\, NC 27858
UID:e.840.7813
SEQUENCE:3
DTSTAMP:20260423T194123Z
URL:https://business.greenvillenc.org/events/details/live-music-at-crossbones-tavern-jahman-brahman-7813
END:VEVENT

END:VCALENDAR
