BEGIN:VCALENDAR
VERSION:2.0
PRODID:-//ChamberMaster//Event Calendar 2.0//EN
METHOD:PUBLISH
X-PUBLISHED-TTL:P3D
REFRESH-INTERVAL:P3D
CALSCALE:GREGORIAN
BEGIN:VEVENT
DTSTART;VALUE=DATE:20170217
DTEND;VALUE=DATE:20170218
TRANSP:TRANSPARENT
X-MICROSOFT-CDO-ALLDAYEVENT:TRUE
SUMMARY:Live Music at Crossbones Tavern- Heartracer
DESCRIPTION:United States alternative/electro pop band formed by brothers Chris and Chip Cosby.
X-ALT-DESC;FMTTYPE=text/html:<span style="background-color:rgb(255\, 255\, 255)\; color:rgb(29\, 33\, 41)\; font-family:helvetica neue\,helvetica\,arial\,sans-serif\; font-size:12px">United States alternative/electro pop band formed by brothers Chris and Chip Cosby.</span>
LOCATION:114 E. 5th Street Greenville\, NC 27858
UID:e.840.7815
SEQUENCE:3
DTSTAMP:20260423T194132Z
URL:https://business.greenvillenc.org/events/details/live-music-at-crossbones-tavern-heartracer-7815
END:VEVENT

END:VCALENDAR
