BEGIN:VCALENDAR
VERSION:2.0
PRODID:-//ChamberMaster//Event Calendar 2.0//EN
METHOD:PUBLISH
X-PUBLISHED-TTL:P3D
REFRESH-INTERVAL:P3D
CALSCALE:GREGORIAN
BEGIN:VEVENT
DTSTART;VALUE=DATE:20170224
DTEND;VALUE=DATE:20170225
TRANSP:TRANSPARENT
X-MICROSOFT-CDO-ALLDAYEVENT:TRUE
SUMMARY:Live Music at Crossbones Tavern- Gimme Hendrix
DESCRIPTION:"Gimme Hendrix aspires to recreate the Jimi Hendrix Experience. We strive to look and dress the part\, and to capture the vibe and mannerisms\, but the most important goal is to relive the sound. The experience was a three piece\, and Gimme Hendrix is a three piece. We create amazing live performances just like the experience did. We play to our best ability and make sure when people come to the show they leave believing that the spirit of the Jimi Hendrix Experience is still very much alive. This band truly is a tribute to the Jimi Hendrix Experience."
X-ALT-DESC;FMTTYPE=text/html:<br />\n<span style="background-color:rgb(255\, 255\, 255)\; color:rgb(75\, 79\, 86)\; font-family:helvetica neue\,helvetica\,arial\,sans-serif\; font-size:14px">&quot\;Gimme Hendrix aspires to recreate the Jimi Hendrix Experience. We strive to look and dress the part\, and to capture the vibe and mannerisms\, but the most important goal is to relive the sound. The experience was a three piece\, and Gimme Hendrix is a three piece. We create amazing live performances just like the experience did. We play to our best ability and make sure when people come to the show they leave believing that the spirit of the Jimi Hendrix Experience is still very much alive. This band truly is a tribute to the Jimi Hendrix Experience.&quot\;</span>
LOCATION:114 E. 5th Street Greenville\, NC 27858
UID:e.840.7817
SEQUENCE:3
DTSTAMP:20260423T211736Z
URL:https://business.greenvillenc.org/events/details/live-music-at-crossbones-tavern-gimme-hendrix-7817
END:VEVENT

END:VCALENDAR
