BEGIN:VCALENDAR
VERSION:2.0
PRODID:-//ChamberMaster//Event Calendar 2.0//EN
METHOD:PUBLISH
X-PUBLISHED-TTL:P3D
REFRESH-INTERVAL:P3D
CALSCALE:GREGORIAN
BEGIN:VEVENT
DTSTART;VALUE=DATE:20170218
DTEND;VALUE=DATE:20170219
TRANSP:TRANSPARENT
X-MICROSOFT-CDO-ALLDAYEVENT:TRUE
SUMMARY:Live Music at Crossbones Tavern- Big Mean Sound Machine
DESCRIPTION:Big Mean Sound Machine rolls through Crossbones Tavern SATURDAY February 18th to shake all the booties!
X-ALT-DESC;FMTTYPE=text/html:<a href="https://www.facebook.com/bigmeansoundmachine/" id="js_lpt" style="color: rgb(54\, 88\, 153)\; cursor: pointer\; font-family: 'Helvetica Neue'\, Helvetica\, Arial\, sans-serif\; font-size: 14px\; line-height: 18.76px\; background-color: rgb(255\, 255\, 255)\;">Big Mean Sound Machine</a><span style="background-color:rgb(255\, 255\, 255)\; color:rgb(75\, 79\, 86)\; font-family:helvetica neue\,helvetica\,arial\,sans-serif\; font-size:14px">&nbsp\;rolls through&nbsp\;</span><a href="https://www.facebook.com/CrossbonesTavernGville/" style="color: rgb(54\, 88\, 153)\; cursor: pointer\; text-decoration: none\; font-family: 'Helvetica Neue'\, Helvetica\, Arial\, sans-serif\; font-size: 14px\; line-height: 18.76px\; background-color: rgb(255\, 255\, 255)\;">Crossbones Tavern</a><span style="background-color:rgb(255\, 255\, 255)\; color:rgb(75\, 79\, 86)\; font-family:helvetica neue\,helvetica\,arial\,sans-serif\; font-size:14px">&nbsp\;SATURDAY February 18th to shake all the booties!</span>
LOCATION:114 E. 5th Street Greenville\, NC 27858
UID:e.840.7816
SEQUENCE:3
DTSTAMP:20260423T194152Z
URL:https://business.greenvillenc.org/events/details/live-music-at-crossbones-tavern-big-mean-sound-machine-7816
END:VEVENT

END:VCALENDAR
