BEGIN:VCALENDAR
VERSION:2.0
PRODID:-//ChamberMaster//Event Calendar 2.0//EN
METHOD:PUBLISH
X-PUBLISHED-TTL:P3D
REFRESH-INTERVAL:P3D
CALSCALE:GREGORIAN
BEGIN:VEVENT
DTSTART;VALUE=DATE:20170204
DTEND;VALUE=DATE:20170205
TRANSP:TRANSPARENT
X-MICROSOFT-CDO-ALLDAYEVENT:TRUE
SUMMARY:Live Music at Crossbones- Lord Nelson
DESCRIPTION:Lord Nelson is two brothers\, one greasy trombone\, backbone bass\, pocket drums\, dirty south guitar and a hell of a lot of fun. The band was formed in 2012 by brothers\, Kai and Bram Crowe-Getty. With the addition of Henry Jones on trombone and Trevor Pietsch on bass\, this collection of Virginia boys presents original roots rock compositions about the people and places they grew up around. Lord Nelson's unique sound varies in range from slow burning\, harmony laced anthems to back beat pulsing floor stompers.
X-ALT-DESC;FMTTYPE=text/html:<span style="background-color:rgb(255\, 255\, 255)\; color:rgb(75\, 79\, 86)\; font-family:helvetica neue\,helvetica\,arial\,sans-serif\; font-size:14px">Lord Nelson is two brothers\, one greasy trombone\, backbone bass\, pocket drums\, dirty south guitar and a hell of a lot of fun. The band was formed in 2012 by brothers\, Kai and Bram Crowe-Getty. With the addition of Henry Jones on trombone and Trevor Pietsch on bass\, this collection of Virginia boys presents original roots rock compositions about the people and places they grew up around. Lord Nelson&#39\;s unique sound varies in range from slow burning\, harmony laced anthems to back beat pulsing floor stompers.</span>
LOCATION:114 E. 5th Street Greenville\,NC 27858
UID:e.840.7810
SEQUENCE:3
DTSTAMP:20260423T193823Z
URL:https://business.greenvillenc.org/events/details/live-music-at-crossbones-lord-nelson-7810
END:VEVENT

END:VCALENDAR
