BEGIN:VCALENDAR
VERSION:2.0
PRODID:-//ChamberMaster//Event Calendar 2.0//EN
METHOD:PUBLISH
X-PUBLISHED-TTL:P3D
REFRESH-INTERVAL:P3D
CALSCALE:GREGORIAN
BEGIN:VEVENT
DTSTART;VALUE=DATE:20170203
DTEND;VALUE=DATE:20170204
TRANSP:TRANSPARENT
X-MICROSOFT-CDO-ALLDAYEVENT:TRUE
SUMMARY:Live Music at Crossbones- David Dixon
DESCRIPTION:Live Music at Crossbones!
X-ALT-DESC;FMTTYPE=text/html:Live Music at Crossbones!
LOCATION:114 E. 5th Street Greenville\, NC 27858
UID:e.840.7809
SEQUENCE:3
DTSTAMP:20260423T211149Z
URL:https://business.greenvillenc.org/events/details/live-music-at-crossbones-david-dixon-7809
END:VEVENT

END:VCALENDAR
