BEGIN:VCALENDAR
VERSION:2.0
PRODID:-//ChamberMaster//Event Calendar 2.0//EN
METHOD:PUBLISH
X-PUBLISHED-TTL:P3D
REFRESH-INTERVAL:P3D
CALSCALE:GREGORIAN
BEGIN:VEVENT
DTSTART;VALUE=DATE:20200219
DTEND;VALUE=DATE:20200220
TRANSP:TRANSPARENT
X-MICROSOFT-CDO-ALLDAYEVENT:TRUE
SUMMARY:Lincoln Park Ground Breaking Ceremony
DESCRIPTION:Join us for The Lincoln Park Ground Breaking Ceremony!
X-ALT-DESC;FMTTYPE=text/html:Join us for The&nbsp\;Lincoln Park Ground Breaking Ceremony!&nbsp\;<br />\n<br />\n&nbsp\;
LOCATION:1507 Fleming St. Greenville\, NC
UID:e.840.11391
SEQUENCE:3
DTSTAMP:20260420T030745Z
URL:https://business.greenvillenc.org/events/details/lincoln-park-ground-breaking-ceremony-11391
END:VEVENT

END:VCALENDAR
