BEGIN:VCALENDAR
VERSION:2.0
PRODID:-//ChamberMaster//Event Calendar 2.0//EN
METHOD:PUBLISH
X-PUBLISHED-TTL:P3D
REFRESH-INTERVAL:P3D
CALSCALE:GREGORIAN
BEGIN:VEVENT
DTSTART:20190919T223000Z
DTEND:20190920T010000Z
X-MICROSOFT-CDO-ALLDAYEVENT:FALSE
SUMMARY:LIFE of NC 19th Annual STRIVE Anniversary Gala
DESCRIPTION:Join LIFE of NC for the 19th Annual STRIVE Anniversary Gala on Thursday\, September 19\, 2019 at 6:30 pm at the Hilton Greenville. This year's keynote speaker is\, Mr. Robert Barker Jr.\, the President of the Bob Barker Company.  Robert's company has been transformed from within by his passion of reducing recidivism with their philanthropic impact through the Bob Barker Company Foundation.  He will be sharing practical lessons of business transformation as well as the importance of giving individuals involved in the justice system an opportunity.  His company's story is innovative and inspiring\, and their mission closely aligns with the transformational work LIFE of NC does in our city. This celebratory evening also includes dinner\, inspiring stories\, recognition of outstanding program graduates and corporate sponsors.
X-ALT-DESC;FMTTYPE=text/html:<span style="font-family:arial\;"><span calibri="" style="font-size: 12pt\; font-family: ">Join LIFE of NC for the <strong>19<sup>th</sup> Annual STRIVE Anniversary Gala</strong> on Thursday\, September 19\, 2019 at 6:30 pm at the Hilton Greenville.&nbsp\;This year&#39\;s keynote speaker is\, Mr. Robert Barker Jr.\, the President of the Bob Barker Company.&nbsp\;&nbsp\;</span><span style="font-size:12.0pt\;">Robert&rsquo\;s company has been transformed from within by his passion of reducing recidivism with their philanthropic impact through the Bob Barker Company Foundation.&nbsp\; He will be sharing practical lessons of business transformation as well as the importance of giving individuals involved in the justice system an opportunity.&nbsp\; His company&rsquo\;s story is innovative and inspiring\, and their mission closely aligns with the transformational work LIFE of NC does in our city. This celebratory evening also includes&nbsp\;dinner\, inspiring stories\, recognition of outstanding program graduates and corporate sponsors.&nbsp\;</span></span>
LOCATION:Hilton Greenville 207 SW Greenville Blvd. Greenville\, NC 27834.
UID:e.840.10361
SEQUENCE:3
DTSTAMP:20260420T105517Z
URL:https://business.greenvillenc.org/events/details/life-of-nc-19th-annual-strive-anniversary-gala-10361
END:VEVENT

END:VCALENDAR
