BEGIN:VCALENDAR
VERSION:2.0
PRODID:-//ChamberMaster//Event Calendar 2.0//EN
METHOD:PUBLISH
X-PUBLISHED-TTL:P3D
REFRESH-INTERVAL:P3D
CALSCALE:GREGORIAN
BEGIN:VEVENT
DTSTART:20170313T130000Z
DTEND:20170313T143000Z
X-MICROSOFT-CDO-ALLDAYEVENT:FALSE
SUMMARY:Legislative Breakfast
DESCRIPTION:Questions and Answers with area legislative representatives
X-ALT-DESC;FMTTYPE=text/html:Questions and Answers with area legislative representatives
LOCATION:4551 County Home Road next to the Alice Keene building
UID:e.840.8070
SEQUENCE:3
DTSTAMP:20260423T181055Z
URL:https://business.greenvillenc.org/events/details/legislative-breakfast-8070
END:VEVENT

END:VCALENDAR
