BEGIN:VCALENDAR
VERSION:2.0
PRODID:-//ChamberMaster//Event Calendar 2.0//EN
METHOD:PUBLISH
X-PUBLISHED-TTL:P3D
REFRESH-INTERVAL:P3D
CALSCALE:GREGORIAN
BEGIN:VEVENT
DTSTART:20150212T220000Z
DTEND:20150213T010000Z
X-MICROSOFT-CDO-ALLDAYEVENT:FALSE
SUMMARY:LEE Loves Local Design Tour
DESCRIPTION:Join us for our LEE Loves Local event where we will be hosting an exclusive look into Coastal Fog and its design projects . This event will start at Coastal Fog's store for wine and small bites at 5pm. At 6pm the Jolly Trolly will pick people up from Coastal Fog and take them on the tour until 7pm where you will then be dropped back off at Coastal Fog. Receive 20% off Lee Furniture Orders February 7-15th. For more information call\, email or check out our website:\n\n2523472632\n\nshopcoastalfog@gmail.com\n\nwww.shopcoastalfog.com
X-ALT-DESC;FMTTYPE=text/html:<p style="text-align: center\;"><span style="font-family: courier new\;">Join us for our LEE Loves Local event where we will be hosting an exclusive look into Coastal Fog and its design projects . This event will start at Coastal Fog&rsquo\;s store for wine and&nbsp\;small bites&nbsp\;at 5pm. At 6pm the Jolly Trolly will pick people up from Coastal Fog and take them on the tour until 7pm where you will then be dropped back off at Coastal Fog. Receive 20% off Lee Furniture Orders February 7-15th. For more information call\, email or check out our website:<br />\n2523472632<br />\nshopcoastalfog@gmail.com<br />\nwww.shopcoastalfog.com</span></p>\n
LOCATION:Starts at Coastal Fog 330 Evans St.
UID:e.840.1584
SEQUENCE:3
DTSTAMP:20260425T103930Z
URL:https://business.greenvillenc.org/events/details/lee-loves-local-design-tour-02-12-2015-1584
END:VEVENT

END:VCALENDAR
