BEGIN:VCALENDAR
VERSION:2.0
PRODID:-//ChamberMaster//Event Calendar 2.0//EN
METHOD:PUBLISH
X-PUBLISHED-TTL:P3D
REFRESH-INTERVAL:P3D
CALSCALE:GREGORIAN
BEGIN:VEVENT
DTSTART:20180217T050000Z
DTEND:20180217T050000Z
X-MICROSOFT-CDO-ALLDAYEVENT:FALSE
SUMMARY:Lee Loves Local
DESCRIPTION:Free design sessions and refinishing seminars from 9:30-3:30. Bring your interior photos and questions to get advice from Jordan and design team + Jenn and the studio team will be demonstrating refinsishing techniques. 10% off Lee Industries floor pieces and 20% of special orders.
X-ALT-DESC;FMTTYPE=text/html:Free design sessions and refinishing seminars from 9:30-3:30. Bring your interior photos and questions to get advice from Jordan and design team + Jenn and the studio team will be demonstrating refinsishing techniques. 10% off Lee Industries floor pieces and 20% of special orders.&nbsp\;
LOCATION:330 Evans Street
UID:e.840.8717
SEQUENCE:3
DTSTAMP:20260423T015309Z
URL:https://business.greenvillenc.org/events/details/lee-loves-local-8717
END:VEVENT

END:VCALENDAR
