BEGIN:VCALENDAR
VERSION:2.0
PRODID:-//ChamberMaster//Event Calendar 2.0//EN
METHOD:PUBLISH
X-PUBLISHED-TTL:P3D
REFRESH-INTERVAL:P3D
CALSCALE:GREGORIAN
BEGIN:VEVENT
DTSTART:20200829T170000Z
DTEND:20200829T210000Z
X-MICROSOFT-CDO-ALLDAYEVENT:FALSE
SUMMARY:Learn how to make your own cornhole board
DESCRIPTION:Have you ever wanted to make your own cornhole board and weren't sure to start? Makerspace of Greenville has you covered. Come on August 29 at 1pm and one of our members will walk you through it. Everyone will make their own to take home along with the knowledge how to make it. $80 covers all materials.
X-ALT-DESC;FMTTYPE=text/html:<span style="color:rgb(28\, 30\, 33)\; font-family:helvetica\,arial\,sans-serif\; font-size:14px">Have you ever wanted to make your own cornhole board and weren&#39\;t sure to start? Makerspace of Greenville has you covered. Come on August 29 at 1pm and one of our members will walk you through it. Everyone will make their own to take home along with the knowledge how to make it. $80 covers all materials.</span>
LOCATION:102 Staton Ct Suite E Greenville\, NC 27834
UID:e.840.11434
SEQUENCE:3
DTSTAMP:20260419T180905Z
URL:https://business.greenvillenc.org/events/details/learn-how-to-make-your-own-cornhole-board-11434
END:VEVENT

END:VCALENDAR
