BEGIN:VCALENDAR
VERSION:2.0
PRODID:-//ChamberMaster//Event Calendar 2.0//EN
METHOD:PUBLISH
X-PUBLISHED-TTL:P3D
REFRESH-INTERVAL:P3D
CALSCALE:GREGORIAN
BEGIN:VEVENT
DTSTART;VALUE=DATE:19971001
DTEND;VALUE=DATE:19980501
TRANSP:TRANSPARENT
X-MICROSOFT-CDO-ALLDAYEVENT:TRUE
SUMMARY:Leadership Institute 97-98
DESCRIPTION:
X-ALT-DESC;FMTTYPE=text/html:
LOCATION:
UID:e.840.21
SEQUENCE:3
DTSTAMP:20260422T110550Z
URL:https://business.greenvillenc.org/events/details/leadership-institute-97-98-10-01-1997-21
END:VEVENT

END:VCALENDAR
