BEGIN:VCALENDAR
VERSION:2.0
PRODID:-//ChamberMaster//Event Calendar 2.0//EN
METHOD:PUBLISH
X-PUBLISHED-TTL:P3D
REFRESH-INTERVAL:P3D
CALSCALE:GREGORIAN
BEGIN:VEVENT
DTSTART:20161031T220000Z
DTEND:20161101T010000Z
X-MICROSOFT-CDO-ALLDAYEVENT:FALSE
SUMMARY:Koinonia Christian Center Church Presents: Harvest Fest 2016 - "Under The Sea Adventure"
DESCRIPTION:Join us at the Greenville Convention Center for our 2016 HarvestFest.  This will be an Under The Sea Adventure. Everything is free and there is no registration.  We look forward to seeing you and your family there.\n\n\n\nSpecial request:  In an effort to help those affected by Hurricane Matthew and the flood\, we are asking everyone to bring a nonperishable food item to donate to our food drive.
X-ALT-DESC;FMTTYPE=text/html:Join us at the Greenville Convention Center for our 2016 HarvestFest. &nbsp\;This will be an Under The Sea Adventure. Everything is free and there is no registration. &nbsp\;We look forward to seeing you and your family there.<br />\n<br />\n<strong>Special request: &nbsp\;In an effort to help those affected by Hurricane Matthew and the flood\, we are asking everyone to bring a nonperishable&nbsp\;food item to donate to our food drive.</strong>
LOCATION:Greenville Convention Center 303 Greenville Blvd SW Greenville\, NC 27834 USA
UID:e.840.6293
SEQUENCE:3
DTSTAMP:20260424T011302Z
URL:https://business.greenvillenc.org/events/details/koinonia-christian-center-church-presents-harvest-fest-2016-under-the-sea-adventure-6293
END:VEVENT

END:VCALENDAR
