BEGIN:VCALENDAR
VERSION:2.0
PRODID:-//ChamberMaster//Event Calendar 2.0//EN
METHOD:PUBLISH
X-PUBLISHED-TTL:P3D
REFRESH-INTERVAL:P3D
CALSCALE:GREGORIAN
BEGIN:VEVENT
DTSTART:20190130T143000Z
DTEND:20190130T163000Z
X-MICROSOFT-CDO-ALLDAYEVENT:FALSE
SUMMARY:Kindergarten 101
DESCRIPTION:Rising Kindergartener? Prior to Spring Registration\, join us and our panel of experts to learn everything you need to know about getting ready for and experiencing Kindergarten. We know it's a big deal for PARENTS and their children\, and we want to equip you with everything we have learned. Sponsored by Parents for Public Schools of Pitt County\, guests include: Dr. Ethan Lenker\, PCS Superintendent\, Lisa Tate\, PCS Director of Elementary Education\, Jennifer Johnson\, PCS Public Information Officer\, Dr. Jennifer Crotty\, Pediatrician\, and others. The program is free.
X-ALT-DESC;FMTTYPE=text/html:Rising Kindergartener? Prior to Spring Registration\, join us and our panel of experts to learn everything you need to know about getting ready for and experiencing Kindergarten. We know it&#39\;s a big deal for PARENTS and their children\, and we want to equip you with everything we have learned. Sponsored by Parents for Public Schools of Pitt County\, guests include: Dr. Ethan Lenker\, PCS Superintendent\, Lisa Tate\, PCS Director of Elementary Education\, Jennifer Johnson\, PCS Public Information Officer\, Dr. Jennifer Crotty\, Pediatrician\, and others. The program is free.&nbsp\;<br />\n&nbsp\;
LOCATION:St. James United Methodist Church\, 2000 E. 6th Street\, Greenville\, NC 27858 (Park across the street and enter through the double doors of the Fellowship Hall closest to the playground.)
UID:e.840.9758
SEQUENCE:3
DTSTAMP:20260420T213330Z
URL:https://business.greenvillenc.org/events/details/kindergarten-101-9758
END:VEVENT

END:VCALENDAR
