BEGIN:VCALENDAR
VERSION:2.0
PRODID:-//ChamberMaster//Event Calendar 2.0//EN
METHOD:PUBLISH
X-PUBLISHED-TTL:P3D
REFRESH-INTERVAL:P3D
CALSCALE:GREGORIAN
BEGIN:VEVENT
DTSTART:20161001T140000Z
DTEND:20161001T160000Z
X-MICROSOFT-CDO-ALLDAYEVENT:FALSE
SUMMARY:Kids Space Day at A Time For Science
DESCRIPTION:Bring your kids for a planetarium show\, a craft and a space themed snack. $5 per child\, parents and guardians are Free! This month we will be learning about the planets of our solar system!
X-ALT-DESC;FMTTYPE=text/html:Bring your kids for a planetarium show\, a craft and a space themed snack. $5 per child\, parents and guardians are Free! This month we will be learning about the planets of our solar system!
LOCATION:949 Contentnea Lane Grifton\, NC 28530
UID:e.840.5853
SEQUENCE:3
DTSTAMP:20260424T010340Z
URL:https://business.greenvillenc.org/events/details/kids-space-day-at-a-time-for-science-5853
END:VEVENT

END:VCALENDAR
