BEGIN:VCALENDAR
VERSION:2.0
PRODID:-//ChamberMaster//Event Calendar 2.0//EN
METHOD:PUBLISH
X-PUBLISHED-TTL:P3D
REFRESH-INTERVAL:P3D
CALSCALE:GREGORIAN
BEGIN:VEVENT
DTSTART:20170107T150000Z
DTEND:20170107T170000Z
X-MICROSOFT-CDO-ALLDAYEVENT:FALSE
SUMMARY:Kids Space Day
DESCRIPTION:Bring the kids for our monthly morning planetarium event to explore new and fascinating topics in astronomy. This month we will be learning about how we use the sky to keep track of time.
X-ALT-DESC;FMTTYPE=text/html:Bring the kids for our monthly morning planetarium event to explore new and fascinating topics in astronomy. This month we will be learning about how we use the sky to keep track of time.
LOCATION:A Time for Science Nature and Science Learning Center 949 Contentnea Lane Grifton\, NC 28530
UID:e.840.7775
SEQUENCE:3
DTSTAMP:20260423T205505Z
URL:https://business.greenvillenc.org/events/details/kids-space-day-7775
END:VEVENT

END:VCALENDAR
