BEGIN:VCALENDAR
VERSION:2.0
PRODID:-//ChamberMaster//Event Calendar 2.0//EN
METHOD:PUBLISH
X-PUBLISHED-TTL:P3D
REFRESH-INTERVAL:P3D
CALSCALE:GREGORIAN
BEGIN:VEVENT
DTSTART:20190411T220000Z
DTEND:20190412T000000Z
X-MICROSOFT-CDO-ALLDAYEVENT:FALSE
SUMMARY:Karma Keg
DESCRIPTION:Tyre Realty Group is proud to announce our very first Karma Keg charity event. TRG is extremely blessed to be supported by the Greenville community\, as this community has helped us reach new heights annually. Without Greenville\, TRG would not be where we are at today\, nor would be able to set such lofty goals we aim to achieve. The purpose of Karma Keg is an opportunity for TRG to show our gratitude by giving back. Simply put\, our mission is simple: Build good karma by donating in the name of your favorite charity.\n\n\n\nOur very first Karma Keg event will be held on Thursday\, April 11 from 6 PM   8 PM at Uptown Brewing Company located at 418 Evans St. TRG will purchase a keg of Uptown's most popular brew. At the door\, we ask for a minimum donation of five dollars to receive a drink ticket. On the drink ticket\, we ask that you write the name of a charity of your choosing. At 7:30\, or when the keg is empty\, we will select a donation ticket at random. Whichever non-profit organization is written on the card will win the entire pot. If you have a favorite community nonprofit\, feel free to invite a bunch of your friends to increase your charity's chances of winning.\n\n\n\nIf you have any questions\, feel free to ask them on our Facebook or Instagram page (@tyrerealtygroup). If you are a community nonprofit and need more information\, please also reach out to us on our social media pages.
X-ALT-DESC;FMTTYPE=text/html:<div><span style="font-family:times new roman\,serif">Tyre Realty Group is proud to announce our very first Karma Keg charity event. TRG is extremely blessed to be supported by the Greenville community\, as this community has helped us reach new heights annually. Without Greenville\, TRG would not be where we are at today\, nor would be able to set such lofty goals we aim to achieve. The purpose of Karma Keg is an opportunity for TRG to show our gratitude by giving back. Simply put\, our mission is simple: Build good karma by donating in the name of your favorite charity.</span><br />\n<br />\n<span style="font-family:times new roman\,serif">Our very first Karma Keg event will be held on Thursday\, April 11 from 6 PM &ndash\; 8 PM at Uptown Brewing Company located at 418 Evans St. TRG will purchase a keg of Uptown&rsquo\;s most popular brew. At the door\, we ask for a minimum donation of five dollars to receive a drink ticket. On the drink ticket\, we ask that you write the name of a charity of your choosing. At 7:30\, or when the keg is empty\, we will select a donation ticket at random. Whichever non-profit organization is written on the card will win the entire pot. If you have a favorite community nonprofit\, feel free to invite a bunch of your friends to increase your charity&rsquo\;s chances of winning.</span><br />\n<br />\n<span style="font-family:times new roman\,serif">If you have any questions\, feel free to ask them on our Facebook or Instagram page (@tyrerealtygroup). If you are a community nonprofit and need more information\, please also reach out to us on our social media pages.</span><br />\n&nbsp\;</div>\n\n<div>&nbsp\;</div>\n
LOCATION:Uptown Brewing Company 418 Evans Street Greenville\, NC 27858
UID:e.840.9779
SEQUENCE:3
DTSTAMP:20260420T173029Z
URL:https://business.greenvillenc.org/events/details/karma-keg-9779
END:VEVENT

END:VCALENDAR
