BEGIN:VCALENDAR
VERSION:2.0
PRODID:-//ChamberMaster//Event Calendar 2.0//EN
METHOD:PUBLISH
X-PUBLISHED-TTL:P3D
REFRESH-INTERVAL:P3D
CALSCALE:GREGORIAN
BEGIN:VEVENT
DTSTART;VALUE=DATE:20170202
DTEND;VALUE=DATE:20170203
TRANSP:TRANSPARENT
X-MICROSOFT-CDO-ALLDAYEVENT:TRUE
SUMMARY:Live Music at Crossbones Tavern-Iron Lion World
DESCRIPTION:Iron Lion World
X-ALT-DESC;FMTTYPE=text/html:<span style="font-family:calibri\,sans-serif"><span style="font-size:11.0pt">Iron Lion World</span></span>
LOCATION:Crossbones Tavern 114 E. 5th Street Greenville\, NC 27858
UID:e.840.7808
SEQUENCE:3
DTSTAMP:20260423T211333Z
URL:https://business.greenvillenc.org/events/details/karaoke-night-iron-lion-world-7808
END:VEVENT

END:VCALENDAR
