BEGIN:VCALENDAR
VERSION:2.0
PRODID:-//ChamberMaster//Event Calendar 2.0//EN
METHOD:PUBLISH
X-PUBLISHED-TTL:P3D
REFRESH-INTERVAL:P3D
CALSCALE:GREGORIAN
BEGIN:VEVENT
DTSTART:20160809T223000Z
DTEND:20160810T003000Z
X-MICROSOFT-CDO-ALLDAYEVENT:FALSE
SUMMARY:JWA New Member Interest Social
DESCRIPTION:Join the ladies of the Junior Women's Association of Greenville for a new member interest social and learn how JWA has impacted the community over the past 6 years\, hear member testimonials\, meet the 2016-2017 Board of Directors\, find out what it takes to be a member of JWA\, and register to be a JWA member for the 2016-2017 year. Light hors d'oeuvres and a cash bar will be provided. We hope to see you there! Friends are welcome!\n\n\n\nIf you are unable to attend and would like a membership form via email\, please contact jwagreenville@gmail.com.\n\n\n\nFor more information about our organization\, visit www.jwagreenville.org.
X-ALT-DESC;FMTTYPE=text/html:Join the ladies of the Junior Women&#39\;s Association of Greenville for a new member interest social and learn how JWA has impacted the community over the past 6 years\, hear member testimonials\, meet the 2016-2017 Board of Directors\, find out what it takes to be a member of JWA\, and register to be a JWA member for the 2016-2017 year. Light hors d&#39\;oeuvres and a cash bar will be provided. We hope to see you there! Friends are welcome!<br />\n<br />\nIf you are unable to attend and would like a membership form via email\, please contact jwagreenville@gmail.com.<br />\n<br />\nFor more information about our organization\, visit www.jwagreenville.org.
LOCATION:Tavern on 4th located at 110 East 4th Street in Greenville\, NC
UID:e.840.5803
SEQUENCE:3
DTSTAMP:20260424T035853Z
URL:https://business.greenvillenc.org/events/details/jwa-new-member-interest-social-08-09-2016-5803
END:VEVENT

END:VCALENDAR
