BEGIN:VCALENDAR
VERSION:2.0
PRODID:-//ChamberMaster//Event Calendar 2.0//EN
METHOD:PUBLISH
X-PUBLISHED-TTL:P3D
REFRESH-INTERVAL:P3D
CALSCALE:GREGORIAN
BEGIN:VEVENT
DTSTART:20190813T220000Z
DTEND:20190814T000000Z
X-MICROSOFT-CDO-ALLDAYEVENT:FALSE
SUMMARY:Junior League of Greenville\, NC New Member Interest Social
DESCRIPTION:Want to learn more about the Junior League of Greenville\, NC? Our organization is hosting a new member interest social on Tuesday\, August 13\, 2019 at 6 pm\, located at the Rickhouse Reserve. Members will be available to answer questions and provide more information about the organization\, and a short information session will be presented. \n\n\n\nThe Junior League of Greenville\, NC is a non-profit organization of women committed to promoting volunteerism\, developing the potential of women\, and improving the community through the effective leadership of trained volunteers. With over 125 active members\, our organization is engaged in volunteer efforts\, fundraising and leadership development throughout the Greenville-Pitt County area.
X-ALT-DESC;FMTTYPE=text/html:<span style="font-size:14px">Want to learn more about the Junior League of Greenville\, NC? Our organization is hosting a new member interest social on Tuesday\, August 13\, 2019 at 6 pm\, located at the Rickhouse Reserve. Members will be available to answer questions and provide more information about the organization\, and a short information session will be presented.&nbsp\;<br />\n<br />\n<span style="font-family:arial\,helvetica\,sans-serif">The Junior League of Greenville\, NC&nbsp\;is a non-profit organization of women committed to promoting volunteerism\, developing the potential of women\, and improving the community through the effective leadership of trained volunteers. With over 125 active members\, our organization is engaged in volunteer efforts\, fundraising and leadership development throughout the Greenville-Pitt County area.&nbsp\;</span></span>
LOCATION:Rickhouse Reserve--710 Red Banks Rd.
UID:e.840.10352
SEQUENCE:3
DTSTAMP:20260420T122433Z
URL:https://business.greenvillenc.org/events/details/junior-league-of-greenville-nc-new-member-interest-social-10352
END:VEVENT

END:VCALENDAR
