BEGIN:VCALENDAR
VERSION:2.0
PRODID:-//ChamberMaster//Event Calendar 2.0//EN
METHOD:PUBLISH
X-PUBLISHED-TTL:P3D
REFRESH-INTERVAL:P3D
CALSCALE:GREGORIAN
BEGIN:VEVENT
DTSTART;VALUE=DATE:20190628
DTEND;VALUE=DATE:20190704
TRANSP:TRANSPARENT
X-MICROSOFT-CDO-ALLDAYEVENT:TRUE
SUMMARY:JULY 4TH SALE
DESCRIPTION:Celebrating our independence with a good old fashioned sale!\n\nGoing on Friday\, June 28th - Wednesday\, July 3rd.\n\n\n\n**We will be closed on July 4th.**
X-ALT-DESC;FMTTYPE=text/html:Celebrating our independence with a good old fashioned sale!<br />\nGoing on Friday\, June 28th - Wednesday\, July 3rd.<br />\n<br />\n**We will be closed on July 4th.**
LOCATION:Votre Boutique Lynndale Shoppes 511 Red Banks Road Suite F Greenville\, NC 27858
UID:e.840.10185
SEQUENCE:3
DTSTAMP:20260420T133923Z
URL:https://business.greenvillenc.org/events/details/july-4th-sale-10185
END:VEVENT

END:VCALENDAR
