BEGIN:VCALENDAR
VERSION:2.0
PRODID:-//ChamberMaster//Event Calendar 2.0//EN
METHOD:PUBLISH
X-PUBLISHED-TTL:P3D
REFRESH-INTERVAL:P3D
CALSCALE:GREGORIAN
BEGIN:VEVENT
DTSTART:20200225T000000Z
DTEND:20200225T020000Z
X-MICROSOFT-CDO-ALLDAYEVENT:FALSE
SUMMARY:JPII Admissions Information Night
DESCRIPTION:Whether you have an 8th grader still making a decision about high school or a 9th or 10th grade student who is looking for a school with rigorous academics and sincere spirituality\, join us to have your questions answered about the admissions process\, curriculum\, arts\, extracurricular activities\, and athletics at John Paul II Catholic High School. This is a smaller event than an Open House and a great opportunity to speak one-on-one with students\, teachers\, and administration.\n\n\n\n \n\n\n\nIs cost a barrier for your student(s) to attend JPII? The Balot Family Scholarship and NC Opportunity Scholarship (NCOS) are income-based scholarships for prospective JPII students. For details\, visit us at our Admissions Information Night or jp2highschool.com/tuition. Don't delay...the priority deadline for NCOS is March 1st!
X-ALT-DESC;FMTTYPE=text/html:<div>\n<div><span style="font-family:inherit">Whether you have an 8th grader still making a decision about high school or a 9th or 10th grade student who is looking for a school with rigorous academics and sincere spirituality\, join us to have your questions answered about the admissions process\, curriculum\, arts\, extracurricular activities\, and athletics at John Paul II Catholic High School. This is a smaller event than an Open House and a great opportunity to speak one-on-one with students\, teachers\, and administration.</span></div>\n</div>\n\n<div>\n<div>&nbsp\;</div>\n</div>\n\n<div>\n<div><span style="font-family:inherit">Is cost a barrier for your student(s) to attend JPII? The Balot Family Scholarship and NC Opportunity Scholarship (NCOS) are income-based scholarships for prospective JPII students. For details\, visit us at our Admissions Information Night or jp2highschool.com/tuition. Don&rsquo\;t delay...the priority deadline for NCOS is March 1st!</span></div>\n</div>\n
LOCATION:John Paul II Catholic High School 2725 E. 14th Street Greenville\, NC 27858
UID:e.840.10996
SEQUENCE:3
DTSTAMP:20260420T030450Z
URL:https://business.greenvillenc.org/events/details/jpii-admissions-information-night-10996
END:VEVENT

END:VCALENDAR
