BEGIN:VCALENDAR
VERSION:2.0
PRODID:-//ChamberMaster//Event Calendar 2.0//EN
METHOD:PUBLISH
X-PUBLISHED-TTL:P3D
REFRESH-INTERVAL:P3D
CALSCALE:GREGORIAN
BEGIN:VEVENT
DTSTART:20191009T190000Z
DTEND:20191009T230000Z
X-MICROSOFT-CDO-ALLDAYEVENT:FALSE
SUMMARY:Joseph Ribkoff Trunk Show
DESCRIPTION:Join us at Votre Boutique and shop the finest Joseph Ribkoff selections. Our awesome rep will be bringing 3 racks of Joseph Ribkoff to choose from. Get 15% OFF your Joseph Ribkoff purchases during the event. Refreshments  will be provided.
X-ALT-DESC;FMTTYPE=text/html:Join us at Votre Boutique and shop the finest Joseph Ribkoff selections. Our awesome rep will be bringing 3 racks of Joseph Ribkoff to choose from. Get 15% OFF your Joseph Ribkoff purchases during the event. Refreshments &nbsp\;will be provided.
LOCATION:511 Red Banks Road Ste F Greenville\, NC 27858
UID:e.840.10792
SEQUENCE:3
DTSTAMP:20260420T092636Z
URL:https://business.greenvillenc.org/events/details/joseph-ribkoff-trunk-show-10792
END:VEVENT

END:VCALENDAR
