BEGIN:VCALENDAR
VERSION:2.0
PRODID:-//ChamberMaster//Event Calendar 2.0//EN
METHOD:PUBLISH
X-PUBLISHED-TTL:P3D
REFRESH-INTERVAL:P3D
CALSCALE:GREGORIAN
BEGIN:VEVENT
DTSTART:20200304T200000Z
DTEND:20200305T000000Z
X-MICROSOFT-CDO-ALLDAYEVENT:FALSE
SUMMARY:Joseph Ribkoff Trunk Show
DESCRIPTION:JOIN US FOR OUR JOSEPH RIBKOFF TRUNKSHOW! CHOOSE FROM RACKS OF THE BEST JOSEPH RIBKOFF SELECTIONS. SPRING\, SUMMER\, & FALL!\n\n\n\nTreat yourself with 20% off Joseph Ribkoff!\n\n\n\nRefreshments will be available.
X-ALT-DESC;FMTTYPE=text/html:<span style="color:rgb(29\, 33\, 41)\; font-family:system-ui\,-apple-system\,blinkmacsystemfont\,.sfnstext-regular\,sans-serif\; font-size:14px">JOIN US FOR OUR JOSEPH RIBKOFF TRUNKSHOW! CHOOSE FROM RACKS OF THE BEST JOSEPH RIBKOFF SELECTIONS. SPRING\, SUMMER\, &amp\; FALL!</span><br />\n<br />\n<span style="color:rgb(29\, 33\, 41)\; font-family:system-ui\,-apple-system\,blinkmacsystemfont\,.sfnstext-regular\,sans-serif\; font-size:14px">Treat yourself with 20% off Joseph Ribkoff!</span><br />\n<br />\n<span style="color:rgb(29\, 33\, 41)\; font-family:system-ui\,-apple-system\,blinkmacsystemfont\,.sfnstext-regular\,sans-serif\; font-size:14px">Refreshments will be available.</span>
LOCATION:Votre Boutique 511 Red Banks Road Suite F Greenville\, NC 2788
UID:e.840.11396
SEQUENCE:3
DTSTAMP:20260420T013757Z
URL:https://business.greenvillenc.org/events/details/joseph-ribkoff-trunk-show-03-04-2020-11396
END:VEVENT

END:VCALENDAR
