BEGIN:VCALENDAR
VERSION:2.0
PRODID:-//ChamberMaster//Event Calendar 2.0//EN
METHOD:PUBLISH
X-PUBLISHED-TTL:P3D
REFRESH-INTERVAL:P3D
CALSCALE:GREGORIAN
BEGIN:VEVENT
DTSTART:20140430T203000Z
DTEND:20140430T230000Z
X-MICROSOFT-CDO-ALLDAYEVENT:FALSE
SUMMARY:Join us for our GRAND OPENING at Yerbabuena Latin Cuisine and Bar on April 30th
DESCRIPTION:Come and join us for our Grand Opening!  We will have free samplings of our signature Latin entrees such as Muchacho Relleno\, Mole Poblano\, and Tortilla Crusted Grouper.  You will love munching on our fantastic Yuca Chips served with a delicious Hogao Sauce.  Also\, we will have Mojitos\, Margaritas\, Caipirinas as well as Export & Domestic Beers available.  While you are here\, enjoy live Latin Music and also enter to win a $25 gift certificate!  Please invite family and friends!  This will be an awesome event!
X-ALT-DESC;FMTTYPE=text/html:Come and join us for our Grand Opening! &nbsp\;We will have free samplings of our signature Latin entrees such as Muchacho Relleno\, Mole Poblano\, and Tortilla Crusted Grouper. &nbsp\;You will love munching on our fantastic Yuca Chips served with a delicious Hogao Sauce. &nbsp\;Also\, we will have Mojitos\, Margaritas\, Caipirinas as well as Export &amp\; Domestic Beers available. &nbsp\;While you are here\, enjoy live Latin Music and also enter to win a $25 gift certificate! &nbsp\;Please invite family and friends! &nbsp\;This will be an awesome event!<br />\n&nbsp\;
LOCATION:Yerbabuena Latin Cuisine and Bar 206 SW Greenville Boulevard Greenville\, NC 27834 (located across from the Hilton)
UID:e.840.543
SEQUENCE:3
DTSTAMP:20260426T015551Z
URL:https://business.greenvillenc.org/events/details/join-us-for-our-grand-opening-at-yerbabuena-latin-cuisine-and-bar-on-april-30th-04-30-2014-543
END:VEVENT

END:VCALENDAR
