BEGIN:VCALENDAR
VERSION:2.0
PRODID:-//ChamberMaster//Event Calendar 2.0//EN
METHOD:PUBLISH
X-PUBLISHED-TTL:P3D
REFRESH-INTERVAL:P3D
CALSCALE:GREGORIAN
BEGIN:VEVENT
DTSTART:20191018T140000Z
DTEND:20191020T020000Z
X-MICROSOFT-CDO-ALLDAYEVENT:FALSE
SUMMARY:Join us for our first ever Tent Sale!
DESCRIPTION:Halo Home & From Marfa Tent Sale!\n\n\n\nOctober 18th-19th - Up to 75% off:\n\nSelect Furniture\, Home Accessories\, Clothing\, Apparel & MUCH MORE!\n\n\n\nOct. 18th from 10-7 pm\n\nOct. 19th from 10-10 pm\nOn October 18th and 19th\, we will have over 10\,000 square feet of furniture selections\, home accessories\, rugs\, lamps\, lighting\, clothing\, apparel\, and much more! Don't miss this opportunity for amazing savings. Come sip\, shop\, and save up to 75% off!
X-ALT-DESC;FMTTYPE=text/html:Halo Home &amp\; From Marfa Tent Sale!<br />\n<br />\nOctober 18th-19th - Up to 75% off:<br />\nSelect Furniture\, Home Accessories\, Clothing\, Apparel &amp\; MUCH MORE!<br />\n<br />\nOct. 18th from 10-7 pm<br />\nOct. 19th from 10-10 pm\n<h3>On October 18th and 19th\, we will have over 10\,000 square feet of furniture selections\, home accessories\, rugs\, lamps\, lighting\, clothing\, apparel\, and much more! Don&#39\;t miss this opportunity for amazing savings. Come sip\, shop\, and save up to 75% off!</h3>\n
LOCATION:801 Dickinson Ave Greenville\, NC 27834
UID:e.840.10791
SEQUENCE:3
DTSTAMP:20260420T092938Z
URL:https://business.greenvillenc.org/events/details/join-us-for-our-first-ever-tent-sale-10791
END:VEVENT

END:VCALENDAR
